BEGIN:VCALENDAR
VERSION:2.0
PRODID:-//Event-Furs.de//NONSGML kigkonsult.se iCalcreator 2.30.10//
CALSCALE:GREGORIAN
METHOD:PUBLISH
UID:4dbe0143-4f57-444e-b9c2-a022d85601c4
X-WR-CALNAME:iCagenda
X-WR-CALDESC:Event Management Extension for Joomla!
X-WR-RELCALID:3E26604A-50F4-4449-8B3E-E4F4932D05B5
X-WR-TIMEZONE:Europe/Berlin
BEGIN:VTIMEZONE
TZID:Europe/Berlin
BEGIN:STANDARD
TZNAME:CET
DTSTART:20241027T030000
TZOFFSETFROM:+0200
TZOFFSETTO:+0100
RDATE:20251026T030000
RDATE:20261025T030000
END:STANDARD
BEGIN:DAYLIGHT
TZNAME:CEST
DTSTART:20250330T020000
TZOFFSETFROM:+0100
TZOFFSETTO:+0200
RDATE:20260329T020000
RDATE:20270328T020000
END:DAYLIGHT
END:VTIMEZONE
BEGIN:VEVENT
UID:f312f588-cdf4-4353-8aa4-b622fdafe382
DTSTAMP:20260420T020811Z
CATEGORIES:Convention
CLASS:PUBLIC
DESCRIPTION;ALTREP="CID:<FFFF__=0ABBE548DFE235B58f9e8a93d@coffeebean.com>":
 \n&gt\;&gt\; Century First Fox-Tail &lt\;&lt\;\n* 01.10.2025 - 05.10.2025 
 *Beginn 01. Oktober ab 14:00 UhrEnde 05. Oktober ~15:00 UhrConfee 140 Euro
 \n\n\nEs gibt einen Vortag an dem es nur ein Abendessen geben wirdund viel
 leicht noch nicht alles fertig aufgebaut ist \;)(+15 Euro für diesen Tag l
 änger):30. September ab ~16:00 Uhr(genaue Uhrzeit folgt noch)\nImmer aktue
 ll mit dem H-Con Telegram Channel:https://telegram.me/HCONinfo\n\n\nAuf di
 eser Consite sind Hunde erlaubt (Bei Registrierung angeben).Freigabe eines
  Hundes nur mit vorheriger Registrierung.\nAuch Tagesgäste müssen sich hie
 r registrieren und sind in begrenzter Zahl herzlich Willkommen.BTW: Tagesg
 ast bedeutet\, dass man an EINEM Tag auf der Consite ist.\n
DTSTART:20251001T120000Z
DTEND:20251005T130000Z
GEO:+49.639919;+9.04644
LOCATION:Petershof\, Talweg 5\, 64711 Erbach/Erbuch\, Deutschland (Hessen)
ORGANIZER:
SEQUENCE:1
SUMMARY:21. H-CON: Century First Fox-Tail
TRANSP:OPAQUE
URL:https://www.event-furs.de/component/icagenda/21-h-con-century-first-fox
 -tail
END:VEVENT
END:VCALENDAR
