BEGIN:VCALENDAR
VERSION:2.0
PRODID:-//Event-Furs.de//NONSGML kigkonsult.se iCalcreator 2.30.10//
CALSCALE:GREGORIAN
METHOD:PUBLISH
UID:1c332b27-295d-48d9-843c-c0e31de0904a
X-WR-CALNAME:iCagenda
X-WR-CALDESC:Event Management Extension for Joomla!
X-WR-RELCALID:3E26604A-50F4-4449-8B3E-E4F4932D05B5
X-WR-TIMEZONE:Europe/Berlin
BEGIN:VTIMEZONE
TZID:Europe/Berlin
BEGIN:STANDARD
TZNAME:CET
DTSTART:20241027T030000
TZOFFSETFROM:+0200
TZOFFSETTO:+0100
RDATE:20251026T030000
RDATE:20261025T030000
END:STANDARD
BEGIN:DAYLIGHT
TZNAME:CEST
DTSTART:20250330T020000
TZOFFSETFROM:+0100
TZOFFSETTO:+0200
RDATE:20260329T020000
END:DAYLIGHT
END:VTIMEZONE
BEGIN:VEVENT
UID:5bb98ffe-bfc6-4cc7-a69d-037a106ac103
DTSTAMP:20260420T000642Z
CATEGORIES:Suitwalk
CLASS:PUBLIC
DESCRIPTION;ALTREP="CID:<FFFF__=0ABBE548DFE235B58f9e8a93d@coffeebean.com>":
 Meetup am 23. Aug. 2025\, 13:30\n\nSeid Ihr bereit\, euren fusseligen Pfot
 en mal etwas Auslauf zu geben?\n\nDann laden euch die RheinFurs zu einem g
 emütlichen Suitwalk im Kurpark Wiesbaden ein!\nWir treffen uns am Samstag\
 , den 23.08.2025 um 13:30 Uhr im Parkhaus Theater in Wiesbaden.\nWenn ihr 
 euch dieses Spektakel nicht entgehen lassen wollt\, dann kommt vorbei! Der
  Eintritt ist frei und Bilder sind gern gesehen.\nWeitere Infos:\nAnreise:
  Auto\nWir treffen uns am Parkhaus 'Theater'\, direkt neben dem Kurpark. D
 ie Parkgebühr beträgt hier 2€/h. Sollte das Parkhaus mal voll ausgelastet 
 sein\, gibt es in der Umgebung einige Möglichkeiten zum Ausweichen\, z.B. 
 die 'Contipark Tiefgarage Kurhaus' (4€/h).\nAnreise: Zug\nDer Wiesbadener 
 Bahnhof ist zentral in der Stadt gelegen. Verlasst den Hauptbahnhof und ne
 hmt die Unterführung vor euch. Wieder aufgetaucht könnt ihr die Linie 8 bi
 s zur Station Kurhaus/Theater fahren. Dann müsst ihr nur noch am Staatsthe
 ater vorbeigehen und seid am Parkhaus\, oder wahlweise hinter dem Staatsth
 eater direkt am Bowling Green wo wir als Erstes hinlaufen werden.\nUmkleid
 en\nWir werden auf dem Sonnendeck parken (oberste Etage des Parkhauses) un
 d uns dort ebenfalls umkleiden. Falls das Wetter zu heiß oder nass sein so
 llte\, treffen wir uns eine Etage tiefer. Das Parkdeck geben wir aber noch
 mal kurz vor dem Event bekannt. Den Ausblick über Wiesbaden sollte man mit
 nehmen\, wenn möglich \;)\nToiletten\nDas Kurhaus beinhaltet mehrere Resta
 urants\, Ballsäle sowie ein Casino. Wenn ihr bewundernd das Kurhaus betret
 et\, wird euch auch niemand einen Toilettengang verwehren.\nDer RheinFurs 
 e.V. freut sich auf euch!\n\nZeitplan\n\n13:45 Spotter Einweisung\n14:00 S
 uitUp\n14:30 Abmarsch\n16:30 Ende\n17:00 After-Dinner (Chinakrone)\n\n\n
DTSTART:20250823T113000Z
DTEND:20250823T170000Z
GEO:+50.083294;+8.248012
LOCATION:InnoPark\, Oberstes Parkdeck Paulinenstraße 19\, 65189 Wiesbaden
ORGANIZER:
SEQUENCE:1
SUMMARY:9. Rheinfurs Suitwalk
TRANSP:OPAQUE
URL:https://www.event-furs.de/component/icagenda/9-rheinfurs-suitwalk
END:VEVENT
END:VCALENDAR
