BEGIN:VCALENDAR
VERSION:2.0
PRODID:-//Event-Furs.de//NONSGML kigkonsult.se iCalcreator 2.30.10//
CALSCALE:GREGORIAN
METHOD:PUBLISH
UID:489294f5-da9c-4cd5-9924-a8a1071cc14d
X-WR-CALNAME:iCagenda
X-WR-CALDESC:Event Management Extension for Joomla!
X-WR-RELCALID:3E26604A-50F4-4449-8B3E-E4F4932D05B5
X-WR-TIMEZONE:Europe/Berlin
BEGIN:VTIMEZONE
TZID:Europe/Berlin
BEGIN:STANDARD
TZNAME:CET
DTSTART:20231029T030000
TZOFFSETFROM:+0200
TZOFFSETTO:+0100
RDATE:20241027T030000
RDATE:20251026T030000
END:STANDARD
BEGIN:DAYLIGHT
TZNAME:CEST
DTSTART:20240331T020000
TZOFFSETFROM:+0100
TZOFFSETTO:+0200
RDATE:20250330T020000
RDATE:20260329T020000
END:DAYLIGHT
END:VTIMEZONE
BEGIN:VEVENT
UID:733bfe32-0b1d-40b8-a392-ef49e6484aa4
DTSTAMP:20260420T034909Z
CATEGORIES:Stammtisch
CLASS:PUBLIC
DESCRIPTION;ALTREP="CID:<FFFF__=0ABBE548DFE235B58f9e8a93d@coffeebean.com>":
 BDSM FURRY-STAMMTISCHđź“…SA 31.08.2024 von 14:00 bis 18:00 Uhr đź“…ź“Ť QuĂ¤lgeist Be
 rlin e.V.Lankwitzer StraĂźe. 42-43 Alt-Mariendorf đź“Ťnâ›“ Ob zum Barplausch\, F
 achsimpeln ĂĽber Spielzeug oder zum Spielen\, fĂĽr all das und mehr gibt es 
 den Stammi.\nâť¤ď¸Ź Wir freuen uns auf euch!\nâš ď¸Ź Wichtiger Hinweis: Respektier
 t die Grenzen anderer! BelĂ¤stigungen jeglicher Art werden nicht toleriert.
  Zuwiderhandlungen fĂĽhren zum sofortigen Ausschluss von der Veranstaltung 
 und mĂ¶glicherweise aus der Gruppe oder der Location.\nđź”„Jeden ersten Samsta
 g im Monat. (Aufgrund von Terminkonflikten\, wird der Septemberstammtisch 
 um eine Woche vorgezogen!)\nđź‘ĄKontaktfur: @SaziRainbowwolf oder @Morley_Esq
DTSTART:20241005T120000Z
DTEND:20241005T160000Z
GEO:+52.437447;+13.375484
LOCATION:QuĂ¤lgeist Berlin e.V.
ORGANIZER:
SEQUENCE:1
SUMMARY:BDSM Furry Stammtisch
TRANSP:OPAQUE
URL:https://www.event-furs.de/component/icagenda/bdsm-furry-stammtisch-2
END:VEVENT
END:VCALENDAR
