BEGIN:VCALENDAR
VERSION:2.0
PRODID:-//Event-Furs.de//NONSGML kigkonsult.se iCalcreator 2.30.10//
CALSCALE:GREGORIAN
METHOD:PUBLISH
UID:c92d50e4-2894-48a9-b19f-21006670e09e
X-WR-CALNAME:iCagenda
X-WR-CALDESC:Event Management Extension for Joomla!
X-WR-RELCALID:3E26604A-50F4-4449-8B3E-E4F4932D05B5
X-WR-TIMEZONE:Europe/Berlin
BEGIN:VTIMEZONE
TZID:Europe/Berlin
BEGIN:STANDARD
TZNAME:CET
DTSTART:20241027T030000
TZOFFSETFROM:+0200
TZOFFSETTO:+0100
RDATE:20251026T030000
RDATE:20261025T030000
END:STANDARD
BEGIN:DAYLIGHT
TZNAME:CEST
DTSTART:20250330T020000
TZOFFSETFROM:+0100
TZOFFSETTO:+0200
RDATE:20260329T020000
END:DAYLIGHT
END:VTIMEZONE
BEGIN:VEVENT
UID:d54e3864-3894-426b-b8e9-39a804329ba7
DTSTAMP:20260419T235430Z
CATEGORIES:Stammtisch
CLASS:PUBLIC
DESCRIPTION;ALTREP="CID:<FFFF__=0ABBE548DFE235B58f9e8a93d@coffeebean.com>":
 \nWer Lust hat\, neue oder alte Fussels mal wieder zusehen und dabei lecke
 r was zu essen\, der ist gerne willkommen in unserer Telegram-Gruppe.Der E
 inladungslink: https://t.me/joinchat/DlpHTQ9ZSuzl2f4HzW3x6Q\nIm August geh
 t es zum Picknicken auf eine tolle große Wiese in Bochum.Genaueres zur Anm
 eldung\, genauem Ort und der restlichen Orga erhaltet ihr wie immer direkt
  bei uns in der Telegram- Gruppe.\n\nhttps://discord.gg/uA5qwkX
DTSTART:20250815T160000Z
DTEND:20250815T190000Z
GEO:+51.481812;+7.219664
LOCATION:Bochum
ORGANIZER:
SEQUENCE:1
SUMMARY:Bochumer Pfotentisch
TRANSP:OPAQUE
URL:https://www.event-furs.de/component/icagenda/bochumer-pfotentisch
END:VEVENT
END:VCALENDAR
