BEGIN:VCALENDAR
VERSION:2.0
PRODID:-//Event-Furs.de//NONSGML kigkonsult.se iCalcreator 2.30.10//
CALSCALE:GREGORIAN
METHOD:PUBLISH
UID:898d84e8-4668-4822-9134-273ce4937c5c
X-WR-CALNAME:iCagenda
X-WR-CALDESC:Event Management Extension for Joomla!
X-WR-RELCALID:3E26604A-50F4-4449-8B3E-E4F4932D05B5
X-WR-TIMEZONE:Europe/Berlin
BEGIN:VTIMEZONE
TZID:Europe/Berlin
BEGIN:STANDARD
TZNAME:CET
DTSTART:20241027T030000
TZOFFSETFROM:+0200
TZOFFSETTO:+0100
RDATE:20251026T030000
RDATE:20261025T030000
END:STANDARD
BEGIN:DAYLIGHT
TZNAME:CEST
DTSTART:20250330T020000
TZOFFSETFROM:+0100
TZOFFSETTO:+0200
RDATE:20260329T020000
END:DAYLIGHT
END:VTIMEZONE
BEGIN:VEVENT
UID:cca70451-b72e-400e-8a28-9c56a468b9f3
DTSTAMP:20260420T002453Z
CATEGORIES:Stammtisch
CLASS:PUBLIC
DESCRIPTION;ALTREP="CID:<FFFF__=0ABBE548DFE235B58f9e8a93d@coffeebean.com>":
 Wann? 3ter Samstag im Monat ab 17 UhrWo? Le Feu - Der Flammkuchen (https:/
 /maps.app.goo.gl/nBGuoGzuog1YKVdC9)Parkmöglichkeit? Hafenstraße 2B\, 29223
  CelleKontaktfurs: @Sankturo / @Fitzgerald /@Daze510\nTelegram-Gruppe:&nbs
 p\;https://t.me/+a0MPpJjaCTZiNWE6\n🎉 Einladung zum Cellescher Furmeet 🐾\nH
 allo liebe Community\,\nna liegt Lüneburg und Hannover zu weit entfernt?\n
 aber du willst unbedingt aktiver werden?\nDANN....\nladen wir euch herzlic
 h zu unserem Furry-Stammtisch\, in Celle ein!\nKommt vorbei und verbringt 
 eine tolle Zeit in geselliger Runde.\nEgal\, ob ihr schon lange Teil der C
 ommunity seid oder gerade erst euren Weg zu uns gefunden habt –\nbei uns i
 st jeder willkommen!\nNächster Stammtisch:\nWann? jeden 3ten Samstag\, ab 
 17 Uhr\nWo? Le Feu - Der Flammkuchen (HIER)\nParkmöglichkeit? Hafenstraße 
 2B\, 29223 Celle (HIER)\nSpeisekarte: https://www.lefeu.de/le-feu-flammkuc
 hen-speisekarte/\nKontaktfur: @Sankturo\nWeitere Infos: Telegramm\nFreundl
 iche Atmosphäre: Lernt andere Furrys und Fursuiter kennen und tauscht euch
  über eure Interessen und Erfahrungen aus.\nSpaß und Unterhaltung: Bringt 
 eure Fursuits mit und lasst uns gemeinsam tolle Fotos machen und Spaß habe
 n!\n&nbsp\;\nWir haben ein Telegramm Gruppe in der wir uns täglich nebenbe
 i Austauschen oder klein Spontane Treffen planen.\nMeist treffen wir uns a
 n der Parkpalette an der 77er Straße.\nOb im Fursuit oder ohne\, wir freue
 n uns auf jeden von euch. Lasst uns gemeinsam eine unvergessliche Zeit ver
 bringen!
DTSTART:20250816T150000Z
DTEND:20250816T180000Z
GEO:+52.624859;+10.08322
LOCATION:Le Feu - Der Flammkuchen in Celle
ORGANIZER:
SEQUENCE:1
SUMMARY:Celler Furry Stammtisch
TRANSP:OPAQUE
URL:https://www.event-furs.de/component/icagenda/celler-furry-stammtisch
END:VEVENT
END:VCALENDAR
