BEGIN:VCALENDAR
VERSION:2.0
PRODID:-//Event-Furs.de//NONSGML kigkonsult.se iCalcreator 2.30.10//
CALSCALE:GREGORIAN
METHOD:PUBLISH
UID:2e4337f7-5825-4e64-a17c-22b5e7afe172
X-WR-CALNAME:iCagenda
X-WR-CALDESC:Event Management Extension for Joomla!
X-WR-RELCALID:3E26604A-50F4-4449-8B3E-E4F4932D05B5
X-WR-TIMEZONE:Europe/Berlin
BEGIN:VTIMEZONE
TZID:Europe/Berlin
BEGIN:STANDARD
TZNAME:CET
DTSTART:20241027T030000
TZOFFSETFROM:+0200
TZOFFSETTO:+0100
RDATE:20251026T030000
RDATE:20261025T030000
END:STANDARD
BEGIN:DAYLIGHT
TZNAME:CEST
DTSTART:20250330T020000
TZOFFSETFROM:+0100
TZOFFSETTO:+0200
RDATE:20260329T020000
END:DAYLIGHT
END:VTIMEZONE
BEGIN:VEVENT
UID:c6ee603c-2936-4112-a480-9e327134afa1
DTSTAMP:20260420T002553Z
CATEGORIES:Stammtisch
CLASS:PUBLIC
DESCRIPTION;ALTREP="CID:<FFFF__=0ABBE548DFE235B58f9e8a93d@coffeebean.com>":
 📅SO 24.08.2025 ab 13:00 📅Regenbogenkombinat\, Thierbacher Straße 21\, 0304
 8 Cottbus Anfahrt: 🚃Straßenbahn Linie 4 nach Sachsendorf oder 🚍Bus 16 nach
  Gallinchen – Ausstieg Haltestelle Gelsenkirchener Platz 📍nDas Regenbogenk
 ombinat in Cottbus öffnet monatlich die Türen\, damit lokales Furs sich in
  entspannter Runde treffen können.\n🎮Für geistiges und körperliches Wohl i
 st gesorgt. Brett- und Kartenspiele sowie ein nettes Heimkino stehen zur U
 nterhaltung zur Verfügung.\n🍕Snacks und Softdrinks werden von uns gestellt
 . Und wenn wer mag\, gibt es sogar eine Küche zum gemeinsamen Kochen und B
 acken.\n⚠️ Bitte beachtet: Alkohol ist im Gebäude nicht erlaubt. Entsprech
 end sind auch die Getränke ohne Alkohol.\n🦊Fursuiter sind gerne gesehen un
 d wir haben eine separate Umkleide. Wenn Ihr Interesse habt\, schaut doch 
 mal vorbei\, oder kommt in unseren Gruppenchat!\n💶Preis: Kostenlos (Wir si
 nd eingeladen vom CSD Cottbus e.V.) 🎟Anmeldung: Nicht notwendig\, gern im 
 Gruppenchat Bescheid geben. ℹ️ Mehr Infos: Im&nbsp\;Gruppenchat👥Kontaktfur
 : @Yano_Karozuno
DTSTART:20250824T110000Z
DTEND:20250824T215900Z
GEO:+51.728142;+14.324144
LOCATION:Regenbogenkombinat\, Thierbacher Straße 21\, 03048 Cottbus
ORGANIZER:
SEQUENCE:1
SUMMARY:Cottbuser Furry Stammtisch 11
TRANSP:OPAQUE
URL:https://www.event-furs.de/component/icagenda/cottbuser-furry-stammtisch
 -11
END:VEVENT
END:VCALENDAR
