BEGIN:VCALENDAR
VERSION:2.0
PRODID:-//Event-Furs.de//NONSGML kigkonsult.se iCalcreator 2.30.10//
CALSCALE:GREGORIAN
METHOD:PUBLISH
UID:289e7d4e-b13f-4d8f-9b00-9fc0528989ab
X-WR-CALNAME:iCagenda
X-WR-CALDESC:Event Management Extension for Joomla!
X-WR-RELCALID:3E26604A-50F4-4449-8B3E-E4F4932D05B5
X-WR-TIMEZONE:Europe/Berlin
BEGIN:VTIMEZONE
TZID:Europe/Berlin
BEGIN:STANDARD
TZNAME:CET
DTSTART:20241027T030000
TZOFFSETFROM:+0200
TZOFFSETTO:+0100
RDATE:20251026T030000
RDATE:20261025T030000
END:STANDARD
BEGIN:DAYLIGHT
TZNAME:CEST
DTSTART:20250330T020000
TZOFFSETFROM:+0100
TZOFFSETTO:+0200
RDATE:20260329T020000
END:DAYLIGHT
END:VTIMEZONE
BEGIN:VEVENT
UID:cf271b12-6f6b-4874-a370-99952e7235c9
DTSTAMP:20260420T002454Z
CATEGORIES:CSD
CLASS:PUBLIC
DESCRIPTION:
DTSTART:20250815T220000Z
DTEND:20250815T220000Z
GEO:00;0
LOCATION:
ORGANIZER:
SEQUENCE:1
SUMMARY:CSD Buchholz (in der Nordheide)
TRANSP:OPAQUE
URL:https://www.event-furs.de/component/icagenda/csd-buchholz-in-der-nordhe
 ide
END:VEVENT
END:VCALENDAR
