BEGIN:VCALENDAR
VERSION:2.0
PRODID:-//Event-Furs.de//NONSGML kigkonsult.se iCalcreator 2.30.10//
CALSCALE:GREGORIAN
METHOD:PUBLISH
UID:3e779dc7-4d77-4da6-9a39-fd5c62b019d2
X-WR-CALNAME:iCagenda
X-WR-CALDESC:Event Management Extension for Joomla!
X-WR-RELCALID:3E26604A-50F4-4449-8B3E-E4F4932D05B5
X-WR-TIMEZONE:Europe/Berlin
BEGIN:VTIMEZONE
TZID:Europe/Berlin
BEGIN:STANDARD
TZNAME:CET
DTSTART:20241027T030000
TZOFFSETFROM:+0200
TZOFFSETTO:+0100
RDATE:20251026T030000
RDATE:20261025T030000
END:STANDARD
BEGIN:DAYLIGHT
TZNAME:CEST
DTSTART:20250330T020000
TZOFFSETFROM:+0100
TZOFFSETTO:+0200
RDATE:20260329T020000
END:DAYLIGHT
END:VTIMEZONE
BEGIN:VEVENT
UID:355e83d1-2ca8-493b-9625-64dbca89bc2f
DTSTAMP:20260421T103453Z
CATEGORIES:Demonstration
CLASS:PUBLIC
DESCRIPTION;ALTREP="CID:<FFFF__=0ABBE548DFE235B58f9e8a93d@coffeebean.com>":
 Demonstration&nbsp\;Regenbogen vor den Bundestag2025-07-25\, ab 18:30https
 ://www.facebook.com/share/19UB6G9mCm/https://www.instagram.com/queer_netwo
 rking
DTSTART:20250725T163000Z
DTEND:20250725T215900Z
GEO:+52.518593;+13.376282
LOCATION:Bundestag
ORGANIZER:
SEQUENCE:1
SUMMARY:Demonstration: Regenbogen vor den Bundestag
TRANSP:OPAQUE
URL:https://www.event-furs.de/component/icagenda/demonstration-regenbogen-v
 or-den-bundestag
END:VEVENT
END:VCALENDAR
