BEGIN:VCALENDAR
VERSION:2.0
PRODID:-//Event-Furs.de//NONSGML kigkonsult.se iCalcreator 2.30.10//
CALSCALE:GREGORIAN
METHOD:PUBLISH
UID:fbcadd60-4f0b-487d-b185-4621399f1a68
X-WR-CALNAME:iCagenda
X-WR-CALDESC:Event Management Extension for Joomla!
X-WR-RELCALID:3E26604A-50F4-4449-8B3E-E4F4932D05B5
X-WR-TIMEZONE:Europe/Berlin
BEGIN:VTIMEZONE
TZID:Europe/Berlin
BEGIN:STANDARD
TZNAME:CET
DTSTART:20241027T030000
TZOFFSETFROM:+0200
TZOFFSETTO:+0100
RDATE:20251026T030000
RDATE:20261025T030000
END:STANDARD
BEGIN:DAYLIGHT
TZNAME:CEST
DTSTART:20250330T020000
TZOFFSETFROM:+0100
TZOFFSETTO:+0200
RDATE:20260329T020000
END:DAYLIGHT
END:VTIMEZONE
BEGIN:VEVENT
UID:bf5403dc-40d9-4916-a300-bc075e550403
DTSTAMP:20260420T015726Z
CATEGORIES:Convention
CLASS:PUBLIC
DESCRIPTION;ALTREP="CID:<FFFF__=0ABBE548DFE235B58f9e8a93d@coffeebean.com>":
 Vom 17. bis 21. September\, 2025.\nDie Dämmerung senkt sich über den Wald\
 , und mit ihr kehrt eine unheimliche Stille ein. Du spürst\, wie sich die 
 Luft um dich verdichtet\, ein leises Rascheln zwischen den Bäumen – bist d
 u allein? Oder lauert etwas in den Schatten?\nDie 13. EAST nimmt dich mit 
 an einen Ort\, an dem deine dunkelsten Albträume zum Leben erwachen. Ein S
 chritt über die Schwelle\, und die Welt\, wie du sie kennst\, bleibt zurüc
 k. Flackerndes Licht\, hallende Stimmen und ein Knistern in der Luft\, das
  dir den Atem raubt.\nHier zählt nur eines: Dein Herz schlägt schneller\, 
 und die Schatten tanzen im Takt deiner Angst. Wirst du den Mut finden\, ti
 efer in diese Nacht einzutauchen? Oder wirst du stehenbleiben\, während di
 e Dunkelheit immer näher kommt?\nDoch sei gewarnt: Es gibt keinen Weg zurü
 ck. Auf diesem Berg regiert die Furcht – und sie wird dich holen.\n„EAST 1
 3“ – Traust du dich\, mitzutanzen?\nEine Veranstaltung des&nbsp\;Sachsen F
 urs e.V.
DTSTART:20250916T220000Z
DTEND:20250921T215900Z
GEO:+50.617027;+10.723353
LOCATION:Ringberg Hotel\, Suhl
ORGANIZER:
SEQUENCE:1
SUMMARY:EAST 13
TRANSP:OPAQUE
URL:https://www.event-furs.de/component/icagenda/east-13
END:VEVENT
END:VCALENDAR
