BEGIN:VCALENDAR
VERSION:2.0
PRODID:-//Event-Furs.de//NONSGML kigkonsult.se iCalcreator 2.30.10//
CALSCALE:GREGORIAN
METHOD:PUBLISH
UID:4a3494f3-70d2-462c-b681-e5ac516e0a02
X-WR-CALNAME:iCagenda
X-WR-CALDESC:Event Management Extension for Joomla!
X-WR-RELCALID:3E26604A-50F4-4449-8B3E-E4F4932D05B5
X-WR-TIMEZONE:Europe/Berlin
BEGIN:VTIMEZONE
TZID:Europe/Berlin
BEGIN:STANDARD
TZNAME:CET
DTSTART:20231029T030000
TZOFFSETFROM:+0200
TZOFFSETTO:+0100
RDATE:20241027T030000
RDATE:20251026T030000
END:STANDARD
BEGIN:DAYLIGHT
TZNAME:CEST
DTSTART:20240331T020000
TZOFFSETFROM:+0100
TZOFFSETTO:+0200
RDATE:20250330T020000
END:DAYLIGHT
END:VTIMEZONE
BEGIN:VEVENT
UID:b5e3c154-2f01-4a85-b220-e8cfaa0d6f1e
DTSTAMP:20260420T033800Z
CATEGORIES:Convention
CLASS:PUBLIC
DESCRIPTION;ALTREP="CID:<FFFF__=0ABBE548DFE235B58f9e8a93d@coffeebean.com>":
 Eurofurence 28 vom 18.09.2024 bis 21.09.2024\nCongressplatz 1 20355 Hambur
 g Germany
DTSTART:20240917T220000Z
DTEND:20240920T220000Z
GEO:+53.561256;+9.986449
LOCATION:Congressplatz 1 20355 Hamburg Germany
ORGANIZER:
SEQUENCE:1
SUMMARY:Eurofurence 28
TRANSP:OPAQUE
URL:https://www.event-furs.de/component/icagenda/eurofurence-28
END:VEVENT
END:VCALENDAR
