BEGIN:VCALENDAR
VERSION:2.0
PRODID:-//Event-Furs.de//NONSGML kigkonsult.se iCalcreator 2.30.10//
CALSCALE:GREGORIAN
METHOD:PUBLISH
UID:38aeb10f-d518-4b2a-966a-5f85ccfeb2ef
X-WR-CALNAME:iCagenda
X-WR-CALDESC:Event Management Extension for Joomla!
X-WR-RELCALID:3E26604A-50F4-4449-8B3E-E4F4932D05B5
X-WR-TIMEZONE:Europe/Berlin
BEGIN:VTIMEZONE
TZID:Europe/Berlin
BEGIN:STANDARD
TZNAME:CET
DTSTART:20241027T030000
TZOFFSETFROM:+0200
TZOFFSETTO:+0100
RDATE:20251026T030000
RDATE:20261025T030000
END:STANDARD
BEGIN:DAYLIGHT
TZNAME:CEST
DTSTART:20250330T020000
TZOFFSETFROM:+0100
TZOFFSETTO:+0200
RDATE:20260329T020000
END:DAYLIGHT
END:VTIMEZONE
BEGIN:VEVENT
UID:97c6697e-6f68-4963-acf1-2abac0d7142b
DTSTAMP:20260420T015911Z
CATEGORIES:Convention
CLASS:PUBLIC
DESCRIPTION;ALTREP="CID:<FFFF__=0ABBE548DFE235B58f9e8a93d@coffeebean.com>":
 Eurofurence 29 findet unter dem Motto “Space Expidition — Outer Space Adve
 ntures” von 3. bis 6. September 2025 im Congress Center Hamburg (CCH) stat
 t. Wir freuen uns auf ein umfangreiches Programm aus Workshops\, Kunst\, T
 heater\, Musik und Kostümen.&nbsp\;\nDie Anmeldung erfolgt über die offizi
 elle Website:&nbsp\;https://www.eurofurence.org/EF29/
DTSTART:20250902T220000Z
DTEND:20250906T212200Z
GEO:+53.561256;+9.986449
LOCATION:CCH - Congress Center Hamburg\, Congresspl. 1\, 20355 Hamburg
ORGANIZER:
SEQUENCE:1
SUMMARY:Eurofurence 29: Space Expdition
TRANSP:OPAQUE
URL:https://www.event-furs.de/component/icagenda/eurofurence-29-space-expdi
 tion
END:VEVENT
END:VCALENDAR
