BEGIN:VCALENDAR
VERSION:2.0
PRODID:-//Event-Furs.de//NONSGML kigkonsult.se iCalcreator 2.30.10//
CALSCALE:GREGORIAN
METHOD:PUBLISH
UID:1d357d77-6f34-4fc0-856a-b5464515e404
X-WR-CALNAME:iCagenda
X-WR-CALDESC:Event Management Extension for Joomla!
X-WR-RELCALID:3E26604A-50F4-4449-8B3E-E4F4932D05B5
X-WR-TIMEZONE:Europe/Berlin
BEGIN:VTIMEZONE
TZID:Europe/Berlin
BEGIN:STANDARD
TZNAME:CET
DTSTART:20231029T030000
TZOFFSETFROM:+0200
TZOFFSETTO:+0100
RDATE:20241027T030000
RDATE:20251026T030000
END:STANDARD
BEGIN:DAYLIGHT
TZNAME:CEST
DTSTART:20240331T020000
TZOFFSETFROM:+0100
TZOFFSETTO:+0200
RDATE:20250330T020000
END:DAYLIGHT
END:VTIMEZONE
BEGIN:VEVENT
UID:cc7075b8-2294-4a6c-9246-cc5d7f9f0009
DTSTAMP:20260419T202433Z
CATEGORIES:Gärten der Welt
CLASS:PUBLIC
DESCRIPTION:
DTSTART:20240504T110000Z
DTEND:20240504T140000Z
GEO:+52.538101;+13.569621
LOCATION:
ORGANIZER:
SEQUENCE:1
SUMMARY:Frühlingswalk by Flammenschwinge
TRANSP:OPAQUE
URL:https://www.event-furs.de/component/icagenda/fruehlingswalk-by-flammens
 chwinge
END:VEVENT
END:VCALENDAR
