BEGIN:VCALENDAR
VERSION:2.0
PRODID:-//Event-Furs.de//NONSGML kigkonsult.se iCalcreator 2.30.10//
CALSCALE:GREGORIAN
METHOD:PUBLISH
UID:e6bd3712-09ed-4fba-bf4b-b7d42c90df9f
X-WR-CALNAME:iCagenda
X-WR-CALDESC:Event Management Extension for Joomla!
X-WR-RELCALID:3E26604A-50F4-4449-8B3E-E4F4932D05B5
X-WR-TIMEZONE:Europe/Berlin
BEGIN:VTIMEZONE
TZID:Europe/Berlin
BEGIN:STANDARD
TZNAME:CET
DTSTART:20231029T030000
TZOFFSETFROM:+0200
TZOFFSETTO:+0100
RDATE:20241027T030000
RDATE:20251026T030000
END:STANDARD
BEGIN:DAYLIGHT
TZNAME:CEST
DTSTART:20240331T020000
TZOFFSETFROM:+0100
TZOFFSETTO:+0200
RDATE:20250330T020000
END:DAYLIGHT
END:VTIMEZONE
BEGIN:VEVENT
UID:ea9c961e-380c-4492-8737-8e00ad89330e
DTSTAMP:20260420T033140Z
CATEGORIES:Convention
CLASS:PUBLIC
DESCRIPTION;ALTREP="CID:<FFFF__=0ABBE548DFE235B58f9e8a93d@coffeebean.com>":
 Furgether vom 13.09.2024 bis 16.09.2024
DTSTART:20240913T135300Z
DTEND:20240916T135300Z
GEO:+47.96109;+14.438828
LOCATION:Camp Sibley\, Österreich
ORGANIZER:
SEQUENCE:1
SUMMARY:Furgether
TRANSP:OPAQUE
URL:https://www.event-furs.de/component/icagenda/furgether
END:VEVENT
END:VCALENDAR
