BEGIN:VCALENDAR
VERSION:2.0
PRODID:-//Event-Furs.de//NONSGML kigkonsult.se iCalcreator 2.30.10//
CALSCALE:GREGORIAN
METHOD:PUBLISH
UID:c3ccae54-0e49-4e8c-84b9-6e0bd0dcbf36
X-WR-CALNAME:iCagenda
X-WR-CALDESC:Event Management Extension for Joomla!
X-WR-RELCALID:3E26604A-50F4-4449-8B3E-E4F4932D05B5
X-WR-TIMEZONE:Europe/Berlin
BEGIN:VTIMEZONE
TZID:Europe/Berlin
BEGIN:STANDARD
TZNAME:CET
DTSTART:20241027T030000
TZOFFSETFROM:+0200
TZOFFSETTO:+0100
RDATE:20251026T030000
RDATE:20261025T030000
END:STANDARD
BEGIN:DAYLIGHT
TZNAME:CEST
DTSTART:20250330T020000
TZOFFSETFROM:+0100
TZOFFSETTO:+0200
RDATE:20260329T020000
END:DAYLIGHT
END:VTIMEZONE
BEGIN:VEVENT
UID:de4c7368-8e5f-4dd9-abe3-e1ef5bc7f222
DTSTAMP:20260420T000304Z
CATEGORIES:Suitwalk
CLASS:PUBLIC
DESCRIPTION;ALTREP="CID:<FFFF__=0ABBE548DFE235B58f9e8a93d@coffeebean.com>":
 \n\n\nEin kleines Ingolstädter Furmeet mitten im Herzen Bayerns\, an dem F
 ussel sich treffen\, sich untereinander austauschen und spielen können!\nB
 egonnen wird an der frischen Luft mit einem Suitwalk im nahegelegenen Park
 . Am Nachmittag findet dann das Herzstück vom Meet in der Bowling Arena st
 att\, wo jede:r nach Lust und Laune mit anderen spielen und sich unterhalt
 en kann. Bowling ist kein Muss\, aber wäre schön.\nZum Ausklang wird mitei
 nander Essen gegangen. Das Restaurant wird in der Gruppe auf Telegram beka
 nnt gegeben.\nLeitung ist seit September 2024 Matcha. Bitte beachtet die j
 eweiligen Anmeldefristen\, da für Bowling und Essen entsprechende Plätze u
 nd Bahnen durch die Leitung reserviert werden müssen.\n⚠️ Die Kosten werde
 n auf alle\, die bowlen\, aufgeteilt. Daher sind die Kosten von der Teilne
 hmerzahl abhängig.\n⚠️ Wer für sich einen Bowling-Platz reserviert\, muss 
 die Kosten mittragen\, wenn bei Verhinderung kein:e andere:r Teilnehmer:in
  nachrückt!\n⚠️ Der Verein zahlt die Leih- und Bahnkosten für alle im Vora
 us. Die Kosten werden dann im Nachhinein abgerechnet (Rechnung wird an die
  bei der Anmeldung angegebenen Emailadresse geschickt). Wir bitten um Vers
 tändnis\, dass die Bahnmiete um einen Unkostenbeitrag (ca. 1€) zur Deckung
  der Transaktionskosten ergänzt wird. Vielen Dank für eure Unterstützung!
 \n\nVeranstaltungsdetails\n\nJeden zweiten Sonntag des Monats\nAktuelle Lo
 cation: \n\nCosmos Bowling Arena Richard-Wagner-Straße 65 85057 Ingolstadt
 \n\n\n\n\n12:00-12:30 Treffpunkt zum Suitwalk (witterungsabhängig\, bitte 
 Ankündigungen beachten!)\n\n\nab 14:00 im Cosmos Bowling\, bis die/der Let
 zte geht oder das Lokal schließt.\n\n\nab 17:30 gemeinsames Abendessen (An
 kündigungen beachten!)\n\n\n\nTelegram-Gruppe (Chat)\n\nTelegram-Kanal\n\n
 \n\n
DTSTART:20250810T100000Z
DTEND:20250810T160000Z
GEO:+48.772419;+11.395729
LOCATION:Cosmos Bowling Arena\, Richard-Wagner-Straße 65\, 85057 Ingolstadt
ORGANIZER:
SEQUENCE:1
SUMMARY:Furmeet Ingolstadt
TRANSP:OPAQUE
URL:https://www.event-furs.de/component/icagenda/furmeet-ingolstadt
END:VEVENT
END:VCALENDAR
