BEGIN:VCALENDAR
VERSION:2.0
PRODID:-//Event-Furs.de//NONSGML kigkonsult.se iCalcreator 2.30.10//
CALSCALE:GREGORIAN
METHOD:PUBLISH
UID:a519535e-6cc6-4f07-9c11-3fee41a97bd7
X-WR-CALNAME:iCagenda
X-WR-CALDESC:Event Management Extension for Joomla!
X-WR-RELCALID:3E26604A-50F4-4449-8B3E-E4F4932D05B5
X-WR-TIMEZONE:Europe/Berlin
BEGIN:VTIMEZONE
TZID:Europe/Berlin
BEGIN:STANDARD
TZNAME:CET
DTSTART:20231029T030000
TZOFFSETFROM:+0200
TZOFFSETTO:+0100
RDATE:20241027T030000
RDATE:20251026T030000
END:STANDARD
BEGIN:DAYLIGHT
TZNAME:CEST
DTSTART:20240331T020000
TZOFFSETFROM:+0100
TZOFFSETTO:+0200
RDATE:20250330T020000
END:DAYLIGHT
END:VTIMEZONE
BEGIN:VEVENT
UID:d1a1fbad-c90b-4e8d-ae63-dab151b7d795
DTSTAMP:20260420T032249Z
CATEGORIES:Convention
CLASS:PUBLIC
DESCRIPTION;ALTREP="CID:<FFFF__=0ABBE548DFE235B58f9e8a93d@coffeebean.com>":
 Furrstein vom 05.09.2024 bis 08.09.2024
DTSTART:20240904T220000Z
DTEND:20240907T220000Z
GEO:+49.297241;+13.393817
LOCATION:Jindřichovice
ORGANIZER:
SEQUENCE:1
SUMMARY:Furrstein
TRANSP:OPAQUE
URL:https://www.event-furs.de/component/icagenda/furrstein
END:VEVENT
END:VCALENDAR
