BEGIN:VCALENDAR
VERSION:2.0
PRODID:-//Event-Furs.de//NONSGML kigkonsult.se iCalcreator 2.30.10//
CALSCALE:GREGORIAN
METHOD:PUBLISH
UID:5e47f7a0-7b34-4194-a190-1ac49dc2cf78
X-WR-CALNAME:iCagenda
X-WR-CALDESC:Event Management Extension for Joomla!
X-WR-RELCALID:3E26604A-50F4-4449-8B3E-E4F4932D05B5
X-WR-TIMEZONE:Europe/Berlin
BEGIN:VTIMEZONE
TZID:Europe/Berlin
BEGIN:STANDARD
TZNAME:CET
DTSTART:20241027T030000
TZOFFSETFROM:+0200
TZOFFSETTO:+0100
RDATE:20251026T030000
RDATE:20261025T030000
END:STANDARD
BEGIN:DAYLIGHT
TZNAME:CEST
DTSTART:20250330T020000
TZOFFSETFROM:+0100
TZOFFSETTO:+0200
RDATE:20260329T020000
END:DAYLIGHT
END:VTIMEZONE
BEGIN:VEVENT
UID:436fc478-bc16-4148-a3ca-dcb7ad9a44ec
DTSTAMP:20260420T002614Z
CATEGORIES:Suitwalk
CLASS:PUBLIC
DESCRIPTION;ALTREP="CID:<FFFF__=0ABBE548DFE235B58f9e8a93d@coffeebean.com>":
 Wann: 09.08.2025\, 15:00 Uhr\nWo: Der Treffpunkt ist das CONTIPARK Parkhau
 s Rundestraße hinter dem Bahnhof bei Kaufland. Dort treffen wir und dann e
 ntweder auf dem obersten Parkdeck\, oder wenn die Sonne zu heiß sein sollt
 e\, eins weiter unten. Adresse: Rundestraße 8\, 30161 Hannover\nZeitplan:
 \n\n15:00 Uhr: Treffen und Umziehen\n16:00 Uhr: Abmarsch\nca. 18:00 Uhr: o
 ffizielles Ende der Veranstaltung\nDanach möglicher Ausklang auf dem Hanno
 ver Stammtisch im Ei.\n\nOrga und Kontaktfur: Otys\nTelegram-Gruppe (für A
 bsprachen usw.)\nFotostopps: Es gibt zwei Orte\, die sich besonders gut da
 für eigenen: einmal die Kröpcke Uhr und zum anderen der Opernplatz.\nPause
 n: Der Opernplatz eigene sich gut\, um von der Masse etwas wegzukommen und
  eine Pause einzulegen.\n&nbsp\;
DTSTART:20250809T130000Z
DTEND:20250809T160000Z
GEO:+52.37941;+9.739018
LOCATION:Rundestraße 8\, 30161 Hannover
ORGANIZER:
SEQUENCE:1
SUMMARY:Fursuitwalk in Hannover am 09.08.2025
TRANSP:OPAQUE
URL:https://www.event-furs.de/component/icagenda/fursuitwalk-in-hannover-am
 -09-08-2025
END:VEVENT
END:VCALENDAR
