BEGIN:VCALENDAR
VERSION:2.0
PRODID:-//Event-Furs.de//NONSGML kigkonsult.se iCalcreator 2.30.10//
CALSCALE:GREGORIAN
METHOD:PUBLISH
UID:5e0682f2-df1f-4850-a662-7f92299d25b5
X-WR-CALNAME:iCagenda
X-WR-CALDESC:Event Management Extension for Joomla!
X-WR-RELCALID:3E26604A-50F4-4449-8B3E-E4F4932D05B5
X-WR-TIMEZONE:Europe/Berlin
BEGIN:VTIMEZONE
TZID:Europe/Berlin
BEGIN:STANDARD
TZNAME:CET
DTSTART:20241027T030000
TZOFFSETFROM:+0200
TZOFFSETTO:+0100
RDATE:20251026T030000
RDATE:20261025T030000
END:STANDARD
BEGIN:DAYLIGHT
TZNAME:CEST
DTSTART:20250330T020000
TZOFFSETFROM:+0100
TZOFFSETTO:+0200
RDATE:20260329T020000
RDATE:20270328T020000
END:DAYLIGHT
END:VTIMEZONE
BEGIN:VEVENT
UID:f344f7d1-8bdb-4cc3-888a-b834ee18adb8
DTSTAMP:20260420T015757Z
CATEGORIES:Suitwalk
CLASS:PUBLIC
DESCRIPTION;ALTREP="CID:<FFFF__=0ABBE548DFE235B58f9e8a93d@coffeebean.com>":
 🎃 Halloween Walk📅SO 26.10.2025 von 13:30 Uhr bis 16 Uhr 📅 Volkspark Friedr
 ichshainTreffpunkt: Tommy's Imbiss (https://maps.app.goo.gl/yXzAveMRMfeNxa
 S16)\,&nbsp\;an der Tram-Haltestelle.Anfahrt: Platz der Vereinten Nationen
  (https://maps.app.goo.gl/5YHRMS4novJGHHVQA) (🚋Tram) 📍n🍃✨🍁✨🍁Hallo Liebe Fu
 rs\, es gibt wieder den Halloween Walk zur gruseligen Jahreszeit! Dazu bie
 ten wir eine mobile Umkleide\, sowie einen Bollerwagen\, damit das nötigst
 e mitgenommen werden kann und Pausen mit Erfrischung möglich sind. Nehmt b
 itte platzsparende Taschen&nbsp\;für die Fursuits. Die Umkleide hat kein W
 C\, es gibt City Toiletten in der Nähe oder nutzt das Restaurant im Park.
 \nAblauf13:30 Uhr Treffen - Tommy's Imbiss\,&nbsp\;an der Uhr. 14:00 Uhr B
 eginn - Wir starten am großen Parkplatz an der Friedenstraße16:00 Uhr Ende
  - Danke\, dass ihr dabei wart!\nSchickt Bilder bitte in die Event-Furs-Gr
 uppe (https://t.me/event_furs/31)\nRouteWir beginnen den Walk hinter Tommy
 s Imbiss\, gehen in den Park\, machen eine große Runde bis zum&nbsp\;Spani
 enkämpfer-Denkmal. Und dann sind wir praktisch schon wieder zurück am Star
 t.\n🍂✨🍁🍂Ich freue mich auf euchPuschel 🐰\nℹ️ Mehr Infos: @event_furs👥Konta
 ktfur: @Puschelwuschel
DTSTART:20251026T123000Z
DTEND:20251026T150000Z
GEO:+52.523949;+13.432328
LOCATION:Volkspark Friedrichshain
ORGANIZER:
SEQUENCE:1
SUMMARY:Halloween Walk
TRANSP:OPAQUE
URL:https://www.event-furs.de/component/icagenda/halloween-walk
END:VEVENT
END:VCALENDAR
