BEGIN:VCALENDAR
VERSION:2.0
PRODID:-//Event-Furs.de//NONSGML kigkonsult.se iCalcreator 2.30.10//
CALSCALE:GREGORIAN
METHOD:PUBLISH
UID:319bf9dc-ff06-4c90-b4ba-55f00a11cc0f
X-WR-CALNAME:iCagenda
X-WR-CALDESC:Event Management Extension for Joomla!
X-WR-RELCALID:3E26604A-50F4-4449-8B3E-E4F4932D05B5
X-WR-TIMEZONE:Europe/Berlin
BEGIN:VTIMEZONE
TZID:Europe/Berlin
BEGIN:STANDARD
TZNAME:CET
DTSTART:20251026T030000
TZOFFSETFROM:+0200
TZOFFSETTO:+0100
RDATE:20261025T030000
END:STANDARD
BEGIN:DAYLIGHT
TZNAME:CEST
DTSTART:20250330T020000
TZOFFSETFROM:+0100
TZOFFSETTO:+0200
RDATE:20260329T020000
RDATE:20270328T020000
END:DAYLIGHT
END:VTIMEZONE
BEGIN:VEVENT
UID:6a6e8970-cfb1-494f-95e0-fdb0411eba44
DTSTAMP:20260420T002452Z
CATEGORIES:Suitwalk
CLASS:PUBLIC
DESCRIPTION;ALTREP="CID:<FFFF__=0ABBE548DFE235B58f9e8a93d@coffeebean.com>":
 🍁Herbstwalk im Britzer Garten + Essen gehen 🍁📅SA 08.11.2025 von 13:00 bis 
 16:00 Uhr 📅📍Eingang Mohriner Allee Mohriner Allee 156 12347 Berlin 📍Anfahr
 t: 🚌181 bis Bus-Haltestelle Rotkopfweg über 🚇U-Bahn-Station Alt-Mariendorf
   🥁Mit dem Einzug des Herbstes wollen wir gemeinsam mit euch die farbenfro
 he Jahreszeit erleben und einen Spaziergang durch die herbstlich gefärbte 
 Natur machen. Der Fokus bei diesem Walk liegt darauf die Schönheit des Her
 bst einzufangen und gemeinsam zusammen zu kommen. Umkleiden stehen uns zur
  Verfügung und werden während des Walks verschlossen. Der Eintritt für den
  Britzer Garten beträgt 2\,00€.  🎁Zusätzlich besteht die Möglichkeit\, ein
 e kleine Spende in Höhe von 5\,00€ zu tätigen. Von diesem Geld werden Getr
 änke\, Verpflegung sowie ein Badge – designed von @KyraXFox – finanzieren.
  Als Dankeschön gibt es für Sponsoren ein exklusives kleines Sponsor-Gift 
 dazu.  🎫Damit wir alles gut vorbereiten\, reservieren und planen können\, 
 bitten wir um Anmeldung\, welche bis zum Tag der Veranstaltung möglich ist
 . ⚠️ Für die personalisierten Badges sowie die Sponsor Geschenke müsst ihr
  euch bis zum 26.10. um 20 Uhr angemeldet haben. Der Name\, mit dem ihr eu
 ch anmeldet\, wird für das Badge verwendet.  📝Zeitplan: 13:00 – Treffen Ha
 upttor 14:00 – Abmarsch 15:30 – Rückkehr 16:30 – Restaurant Umkleide schli
 eßt kurz nach 16 Uhr  🍜Für das gemeinsame Essen ist das AYCE Royal Gourmet
  Chinarestaurant in der Nähe geplant. Dort haben wir kleine Tische reservi
 ert\, sodass man sich besser miteinander austauschen kann. Und nicht verge
 ssen: Am Abend findet auch wieder der Weststammie in Spandau statt!  💶Eint
 ritt: 2\,00 € 🎟Anmeldung: https://events.bbfurry.de/👥Kontaktfur: @OtterAar
 on @KyraXFox @Ericcoon
DTSTART:20251108T120000Z
DTEND:20251108T150000Z
GEO:+52.439377;+13.412425
LOCATION:Britzer Garten\, Mohriner Allee 156\, 12347 Berlin
ORGANIZER:
SEQUENCE:1
SUMMARY:Herbstwalk im Britzer Garten + Essen gehen 🍁
TRANSP:OPAQUE
URL:https://www.event-furs.de/component/icagenda/herbstwalk-im-britzer-gart
 en-essen-gehen
END:VEVENT
END:VCALENDAR
