BEGIN:VCALENDAR
VERSION:2.0
PRODID:-//Event-Furs.de//NONSGML kigkonsult.se iCalcreator 2.30.10//
CALSCALE:GREGORIAN
METHOD:PUBLISH
UID:e78ce57d-ba36-4fee-922a-a628b4bebc90
X-WR-CALNAME:iCagenda
X-WR-CALDESC:Event Management Extension for Joomla!
X-WR-RELCALID:3E26604A-50F4-4449-8B3E-E4F4932D05B5
X-WR-TIMEZONE:Europe/Berlin
BEGIN:VTIMEZONE
TZID:Europe/Berlin
BEGIN:STANDARD
TZNAME:CET
DTSTART:20231029T030000
TZOFFSETFROM:+0200
TZOFFSETTO:+0100
RDATE:20241027T030000
RDATE:20251026T030000
END:STANDARD
BEGIN:DAYLIGHT
TZNAME:CEST
DTSTART:20240331T020000
TZOFFSETFROM:+0100
TZOFFSETTO:+0200
RDATE:20250330T020000
RDATE:20260329T020000
END:DAYLIGHT
END:VTIMEZONE
BEGIN:VEVENT
UID:51db531c-9775-4429-96f0-5aadcf1380e2
DTSTAMP:20260420T033938Z
CATEGORIES:Suitwalk
CLASS:PUBLIC
DESCRIPTION;ALTREP="CID:<FFFF__=0ABBE548DFE235B58f9e8a93d@coffeebean.com>":
 Wir laden euch herzlich ein zum nÃ¤chsten Suitwalk\, der am Samstag\, den 5
 . Oktober 2024 in den wunderschÃ¶nen GÃ¤rten der Welt in Berlin stattfindet!
 \nAblauf:- Treffzeit fÃ¼r die Orga: 12:30 Uhr - Treffzeit/Umkleide fÃ¼r die 
 Teilnehmer: SpÃ¤testens um 13:00 Uhr- Start des Suitwalks: SpÃ¤testens um 14
 :00 Uhr- Ende: Ca. 17:00 Uhr\nOrt: GÃ¤rten der Welt\, Blumberger Damm 44\, 
 12685 Berlin (UmkleidemÃ¶glichkeiten und VerstaumÃ¶glichkeiten sind vorhande
 n.)\nPausen: Wir planen zwei Pausen von jeweils ca. 30 Minuten\, damit ihr
  euch zwischendurch ausruhen und erfrischen kÃ¶nnt.\nStreckenbeschreibung: 
 Wir lassen uns von der SchÃ¶nheit der GÃ¤rten der Welt inspirieren und erkun
 den verschiedene\, zufÃ¤llige Orte. Eine feste Route gibt es dieses Mal nic
 ht. Bitte beachtet\, dass wir nicht die Seilbahn nutzen werden.\nEintritt:
  7â‚¬ Teilnehmer\, die bereits um 12:30 Uhr vor Ort sind\, haben freien Eint
 ritt!\nðŸ“¸ŸŒŸ Spotter\, Fotografen &amp\; Helfer gesucht! ðŸŒŸŸ“¸ Spotter\, Fotografe
 n und Helfer sind herzlich eingeladen\, die festlichen Momente des Suitwal
 ks einzufangen und die Veranstaltung zu unterstÃ¼tzen. Meldet euch bei @Fla
 mmenschwinge\, um Teil unseres Teams zu werden.\nWeitere Informationen: Bl
 eibt auf dem Laufenden! Weitere Details werden in der Gruppe geteilt und s
 pÃ¤ter auf event-furs.de verÃ¶ffentlicht.\nWir freuen uns auf einen frÃ¶hlich
 en Suitwalk in den GÃ¤rten der Welt! Bei weiteren Fragen\, schreibt einfach
  @Flammenschwinge an.
DTSTART:20241005T110000Z
DTEND:20241005T150000Z
GEO:+52.538101;+13.569621
LOCATION:GÃ¤rten der Welt
ORGANIZER:
SEQUENCE:1
SUMMARY:Herbstwalk
TRANSP:OPAQUE
URL:https://www.event-furs.de/component/icagenda/herbstwalk
END:VEVENT
END:VCALENDAR
