BEGIN:VCALENDAR
VERSION:2.0
PRODID:-//Event-Furs.de//NONSGML kigkonsult.se iCalcreator 2.30.10//
CALSCALE:GREGORIAN
METHOD:PUBLISH
UID:e16cd365-cc36-478d-ab08-f039e96cbbc2
X-WR-CALNAME:iCagenda
X-WR-CALDESC:Event Management Extension for Joomla!
X-WR-RELCALID:3E26604A-50F4-4449-8B3E-E4F4932D05B5
X-WR-TIMEZONE:Europe/Berlin
BEGIN:VTIMEZONE
TZID:Europe/Berlin
BEGIN:STANDARD
TZNAME:CET
DTSTART:20241027T030000
TZOFFSETFROM:+0200
TZOFFSETTO:+0100
RDATE:20251026T030000
RDATE:20261025T030000
END:STANDARD
BEGIN:DAYLIGHT
TZNAME:CEST
DTSTART:20250330T020000
TZOFFSETFROM:+0100
TZOFFSETTO:+0200
RDATE:20260329T020000
END:DAYLIGHT
END:VTIMEZONE
BEGIN:VEVENT
UID:42c30850-c670-4762-84ed-364d8351e81e
DTSTAMP:20260420T002452Z
CATEGORIES:Stammtisch
CLASS:PUBLIC
DESCRIPTION;ALTREP="CID:<FFFF__=0ABBE548DFE235B58f9e8a93d@coffeebean.com>":
 \nJenafurs Stammtisch August 2025\n23. August 2025 ab 17:00 Uhr\n\nHallo i
 hr Fellbälle\,\nam Samstag dem 23.08 ist es wieder so weit! Der Jenaer Fur
 ry Stammtisch im Tillis Spielecafe findet wieder statt!\nWie immer müssen 
 wir bis zum 20.08. eine feste Zusage von euch haben.\nBitte meldet euch au
 ch wieder ab\, falls ihr krank werdet oder spontan doch nicht vorbeikommen
  könnt.\nihr habt Fragen? wendet euch gerne an Neko\, Gecko oder Coon.\nWi
 r sehen uns am 23.08. ab 17 Uhr im Tillis Spielecafe.\nWir freuen uns auf 
 euch! die Jenafurs\n\nDamit wir dem Tillis rechzeitig sagen können\, wie v
 iele wir sind\, registriert euch bitte auf der Anmelde-Seite und gebt an\,
  ob ihr fursuiten wollt.\nFursuiten ist gerne möglich\, aber Umziehmöglich
 keit ist in Toilettenkabinen oder bei der öffentlich einsehbaren Wickel-Ec
 ke\, beides die Wendeltreppe runter im Untergeschoss.\nDas Spielecafe hat 
 eine riiiiiesige Auswahl an spielen\, aber ihr könnt natürlich auch eure e
 igenen Spiele mitbringen. Eigenes Essen und Getränke mitnehmen ist leider 
 nicht gestattet\, im Café gibt es Getränke\, Barfood und Dessert. Denkt al
 so vorher bitte daran\, etwas zu essen. In der Umgebung sind auch viele Es
 sensmöglichkeiten.\nDer Eintritt zum Tillis liegt bei 4€\, den bezahlt ihr
  bitte am Ende eures Abends dort.\nFalls ihr Fragen habt\, meldet euch ger
 ne bei Neko\, Gecko oder Coon.\nDie Reg öffnet sofort und schließt am 20.0
 8.2025 um 17 Uhr. Es gibt kein Limit für die Zahl der Teilnehmenden.\n\n\n
 \nWo findet diese Veranstaltung statt? Tillis SpielecaféGrietgasse 207743 
 Jena\n\n\nWann findet diese Veranstaltung statt? 23. August 2025   Beginn:
  17:00&nbsp\;\n\n\n\n\nTickets-Registrierung:&nbsp\;https://reg.jenafurs.d
 e/stammi/2025-8/\n\n\n\n\nDas Spielecafé Tillis kostet 4€ Eintritt für die
  Nutzung der umfangreichen Spielesammlung. Dieser Betrag muss dann direkt 
 an das Tillis bezahlt werden.\n\n\n\n\n\n
DTSTART:20250823T150000Z
DTEND:20250823T190000Z
GEO:+50.926414;+11.585486
LOCATION:Tillis Spielecafé\, Grietgasse 2\, 07743 Jena
ORGANIZER:
SEQUENCE:1
SUMMARY:Jenafurs Stammtisch August 2025
TRANSP:OPAQUE
URL:https://www.event-furs.de/component/icagenda/jenafurs-stammtisch-august
 -2025
END:VEVENT
END:VCALENDAR
