BEGIN:VCALENDAR
VERSION:2.0
PRODID:-//Event-Furs.de//NONSGML kigkonsult.se iCalcreator 2.30.10//
CALSCALE:GREGORIAN
METHOD:PUBLISH
UID:9eb04972-e4e3-4b09-a3a1-c1b665f2e7f3
X-WR-CALNAME:iCagenda
X-WR-CALDESC:Event Management Extension for Joomla!
X-WR-RELCALID:3E26604A-50F4-4449-8B3E-E4F4932D05B5
X-WR-TIMEZONE:Europe/Berlin
BEGIN:VTIMEZONE
TZID:Europe/Berlin
BEGIN:STANDARD
TZNAME:CET
DTSTART:20241027T030000
TZOFFSETFROM:+0200
TZOFFSETTO:+0100
RDATE:20251026T030000
RDATE:20261025T030000
END:STANDARD
BEGIN:DAYLIGHT
TZNAME:CEST
DTSTART:20250330T020000
TZOFFSETFROM:+0100
TZOFFSETTO:+0200
RDATE:20260329T020000
END:DAYLIGHT
END:VTIMEZONE
BEGIN:VEVENT
UID:a27ac033-deaf-40e0-9b8f-6af314358ccc
DTSTAMP:20260420T000207Z
CATEGORIES:Stammtisch
CLASS:PUBLIC
DESCRIPTION;ALTREP="CID:<FFFF__=0ABBE548DFE235B58f9e8a93d@coffeebean.com>":
 \n\n\nName des Treffens:\nKölner Stammtisch (September 2022)\n\n\nVeransta
 ltungort:\nTBA\n\n\nDatum / Uhrzeit:\nJeden 2. Samstag im Monat ab ca. 18:
 00 Uhr\n\n\nTeilnehmerlimit:\n30 (Falls es mehr werden sollten kann ich da
 s Limit nochmal erhöhen\, mit absprache des Restaurants)\n\n\nAnreise:\nVo
 n Hauptbahnhof sollte man eig. fast immer mit der Bahn zu dem Veranstaltun
 gsort kommen.\n\n\nVerpflegung:\nFür Essen ist vor Ort gesorgt\, bitte sch
 aut euch die Speisekarte von jeweiligen Restaurant an.\n\n\nÜbernachtung:
 \nBitte Sprecht dies in Telegram oder hier ab.\n\n\nKosten:\nTeilnahmegebü
 ren gibt es nicht. Anfahrt und Verpflegung müssen von euch selber getragen
  werden.\n\n\nKontaktfur:\nDhalucario (Telegram)Sheppy (Telegram)Ludra (Te
 legram)\n\n\nTelegramgruppe:\nEinladungslink\n\n\nAnmeldung:\nIm Telegram 
 Chat des Kölner Stammtisches ist ein Anmeldeformular gepinnt wenn ein Stam
 mtisch stattfindet.\n\n\nWeiter Infos:\nInfo's können abweichen\, bitte sc
 haut in der Telegram Gruppe für die aktuellsten Info's.\n\n\n
DTSTART:20250809T180000Z
DTEND:20250809T210000Z
GEO:00;0
LOCATION:
ORGANIZER:
SEQUENCE:1
SUMMARY:Kölner Stammtisch
TRANSP:OPAQUE
URL:https://www.event-furs.de/component/icagenda/koelner-stammtisch
END:VEVENT
END:VCALENDAR
