BEGIN:VCALENDAR
VERSION:2.0
PRODID:-//Event-Furs.de//NONSGML kigkonsult.se iCalcreator 2.30.10//
CALSCALE:GREGORIAN
METHOD:PUBLISH
UID:1d0c5d3a-2191-4515-adbe-a02789a3dd2e
X-WR-CALNAME:iCagenda
X-WR-CALDESC:Event Management Extension for Joomla!
X-WR-RELCALID:3E26604A-50F4-4449-8B3E-E4F4932D05B5
X-WR-TIMEZONE:Europe/Berlin
BEGIN:VTIMEZONE
TZID:Europe/Berlin
BEGIN:STANDARD
TZNAME:CET
DTSTART:20241027T030000
TZOFFSETFROM:+0200
TZOFFSETTO:+0100
RDATE:20251026T030000
RDATE:20261025T030000
END:STANDARD
BEGIN:DAYLIGHT
TZNAME:CEST
DTSTART:20250330T020000
TZOFFSETFROM:+0100
TZOFFSETTO:+0200
RDATE:20260329T020000
END:DAYLIGHT
END:VTIMEZONE
BEGIN:VEVENT
UID:783db32a-c70c-41a5-af50-06b25335dfdb
DTSTAMP:20260420T001038Z
CATEGORIES:Event
CLASS:PUBLIC
DESCRIPTION;ALTREP="CID:<FFFF__=0ABBE548DFE235B58f9e8a93d@coffeebean.com>":
 📅SO 10.08.2025 von 14:00 bis 16:00 Uhr 📅&nbsp\; Volkspark Friedrichshain M
 ärchen-Brunnen.&nbsp\;https://maps.app.goo.gl/AqzXWfGVU7Rpvt1FA?g_st=ac📍al
 löchen\, ich habe vor mit meinem neuen Lichtschwert zu üben (drinnen kein 
 Platz) bei dem guten Wetter.&nbsp\;Aber alleine ist langweilig.&nbsp\;Also
  biete ich allen die ein Lichtschwert (oder mehr) oder Bokken haben ein Tr
 effen an um unsere Lichtschwerter zu bestaunen und etwas zu üben und ein b
 isschen zu kämpfen!&nbsp\;&nbsp\;Die Furries unter euch\, die keins haben\
 , dürfen natürlich auch kommen für Bilder.&nbsp\;Ich werde meinen Bokken n
 utzen. Ich habe einen Holzstab (als Jo oder Schwert Ersatz) und meine Lich
 tschwert Lanze falls jemand kein Lichtschwert hat oder mal mit einer Licht
 schwert Lanze kämpfen möchte&nbsp\;Wäre mal was anderes als nur Fursuiten!
 Neu!!: Ich biete auch an dieses Treffen zu nutzen für Personen die Iaido o
 der Kenjutsu trainieren\, um zusätzlich zum Training mit anderen zu üben.&
 nbsp\;(Ich bilde nicht aus oder werde so tun als ob ich's könnte! Lerne ja
  auch gerade erst. (Anfänger))👥Kontaktfur: @spitfiremercury
DTSTART:20250810T120000Z
DTEND:20250810T140000Z
GEO:+52.527977;+13.426429
LOCATION:Volkspark Friedrichshain Märchen-Brunnen
ORGANIZER:
SEQUENCE:1
SUMMARY:Lichtschwert/ Iaido/Kenjutsu Treff Training 4
TRANSP:OPAQUE
URL:https://www.event-furs.de/component/icagenda/lichtschwert-iaido-kenjuts
 u-treff-training-4
END:VEVENT
END:VCALENDAR
