BEGIN:VCALENDAR
VERSION:2.0
PRODID:-//Event-Furs.de//NONSGML kigkonsult.se iCalcreator 2.30.10//
CALSCALE:GREGORIAN
METHOD:PUBLISH
UID:02416445-5ab5-493a-a9ca-f49eaba697b0
X-WR-CALNAME:iCagenda
X-WR-CALDESC:Event Management Extension for Joomla!
X-WR-RELCALID:3E26604A-50F4-4449-8B3E-E4F4932D05B5
X-WR-TIMEZONE:Europe/Berlin
BEGIN:VTIMEZONE
TZID:Europe/Berlin
BEGIN:STANDARD
TZNAME:CET
DTSTART:20241027T030000
TZOFFSETFROM:+0200
TZOFFSETTO:+0100
RDATE:20251026T030000
END:STANDARD
BEGIN:DAYLIGHT
TZNAME:CEST
DTSTART:20240331T020000
TZOFFSETFROM:+0100
TZOFFSETTO:+0200
RDATE:20250330T020000
RDATE:20260329T020000
END:DAYLIGHT
END:VTIMEZONE
BEGIN:VEVENT
UID:cebffcb3-680c-474b-908b-8d4b9a96a040
DTSTAMP:20260420T020018Z
CATEGORIES:Furdance
CLASS:PUBLIC
DESCRIPTION;ALTREP="CID:<FFFF__=0ABBE548DFE235B58f9e8a93d@coffeebean.com>":
 Bereit für den Lübecker Furdance 2 am 16.11.2024? Hier ist unser Lineup.\n
 Pako - House/TechnoFjordy - Oldschool HardstyleAsgra - Hardstyle/RawstyleC
 heetah - Hardstylep4ddy - RawstyleKiba - Hardcore &amp\; UptempoHanook - H
 ardtekk\nAlle Infos zum Event gibt es hier: https://hansefurs.de/lubecker-
 furdance-2/\nZur Reg geht es hier entlang: https://reg.hansefurs.de/
DTSTART:20241116T180000Z
DTEND:20241116T230000Z
GEO:+53.876076;+10.688486
LOCATION:Strandsalon Lübeck
ORGANIZER:
SEQUENCE:1
SUMMARY:Lübecker Furdance 2
TRANSP:OPAQUE
URL:https://www.event-furs.de/component/icagenda/luebecker-furdance-2
END:VEVENT
END:VCALENDAR
