BEGIN:VCALENDAR
VERSION:2.0
PRODID:-//Event-Furs.de//NONSGML kigkonsult.se iCalcreator 2.30.10//
CALSCALE:GREGORIAN
METHOD:PUBLISH
UID:bbaa0b61-4b82-4b7b-aeef-e1ac8bcdd8e9
X-WR-CALNAME:iCagenda
X-WR-CALDESC:Event Management Extension for Joomla!
X-WR-RELCALID:3E26604A-50F4-4449-8B3E-E4F4932D05B5
X-WR-TIMEZONE:Europe/Berlin
BEGIN:VTIMEZONE
TZID:Europe/Berlin
BEGIN:STANDARD
TZNAME:CET
DTSTART:20241027T030000
TZOFFSETFROM:+0200
TZOFFSETTO:+0100
RDATE:20251026T030000
RDATE:20261025T030000
END:STANDARD
BEGIN:DAYLIGHT
TZNAME:CEST
DTSTART:20250330T020000
TZOFFSETFROM:+0100
TZOFFSETTO:+0200
RDATE:20260329T020000
END:DAYLIGHT
END:VTIMEZONE
BEGIN:VEVENT
UID:c448419e-7c74-40e8-be8b-f6b0f76fb980
DTSTAMP:20260420T002552Z
CATEGORIES:Stammtisch
CLASS:PUBLIC
DESCRIPTION;ALTREP="CID:<FFFF__=0ABBE548DFE235B58f9e8a93d@coffeebean.com>":
 Jeden dritten Samstag im Monat ist in Lüneburg unsehr Stammtisch und meist
 ens gibt es auch einen Suitwalk. Dieser ist aber vom Wetter abhängig und h
 at keine Teilnehmergrenze.\nDie Anmeldung erfolgt über Telegram\nAnsprechp
 artner ist @Tenori_1\nAlle Infos werden aber auch rechtzeitig über den Lün
 e Furmeet Kanal bekannt gegeben:&nbsp\;https://t.me/Luenefurs
DTSTART:20250816T123000Z
DTEND:20250816T203000Z
GEO:+53.239098;+10.38144
LOCATION:Lüneburg
ORGANIZER:
SEQUENCE:1
SUMMARY:Lüneburger Suitewalk und Stammtisch
TRANSP:OPAQUE
URL:https://www.event-furs.de/component/icagenda/lueneburger-suitewalk-und-
 stammtisch
END:VEVENT
END:VCALENDAR
