BEGIN:VCALENDAR
VERSION:2.0
PRODID:-//Event-Furs.de//NONSGML kigkonsult.se iCalcreator 2.30.10//
CALSCALE:GREGORIAN
METHOD:PUBLISH
UID:2f0cf69e-3188-470d-bf34-f5b66ff826da
X-WR-CALNAME:iCagenda
X-WR-CALDESC:Event Management Extension for Joomla!
X-WR-RELCALID:3E26604A-50F4-4449-8B3E-E4F4932D05B5
X-WR-TIMEZONE:Europe/Berlin
BEGIN:VTIMEZONE
TZID:Europe/Berlin
BEGIN:STANDARD
TZNAME:CET
DTSTART:20241027T030000
TZOFFSETFROM:+0200
TZOFFSETTO:+0100
RDATE:20251026T030000
RDATE:20261025T030000
END:STANDARD
BEGIN:DAYLIGHT
TZNAME:CEST
DTSTART:20250330T020000
TZOFFSETFROM:+0100
TZOFFSETTO:+0200
RDATE:20260329T020000
RDATE:20270328T020000
END:DAYLIGHT
END:VTIMEZONE
BEGIN:VEVENT
UID:883a3030-4fb8-4c61-9cf6-777a9fe6c05b
DTSTAMP:20260420T015604Z
CATEGORIES:Stammtisch
CLASS:PUBLIC
DESCRIPTION;ALTREP="CID:<FFFF__=0ABBE548DFE235B58f9e8a93d@coffeebean.com>":
 Magic Commander Stammtisch📅nbsp\;SO 12.10.2025 ab 14:00 📅Billardsalon Span
 dau 'Pool Position' Am Juliusturm 31&nbsp\; 13599 Berlin Anfahrt: 🚇nbsp\;U
 -Bahn-Station Zitadelle Spandau oder 🚌nbsp\;Bus-Haltestelle Motorradwerk📍n
 Das vorgeschlagene Powerlevel befindet sich im anfängerfreundlichen Bereic
 h und entspricht ca. den Niveau der vorgefertigten Commanderdecks&nbsp\; (
 Precons). Spielkarten sind in den Sprachen Deutsch und Englisch erlaubt.\n
 🍀🍀🍀🍀n💫nbsp\;Platz für 8 Spieler 🐿 Spieler sind immer vor Ort\, also stoßt 
 gerne dazu.\n💶nbsp\;Preis:&nbsp\;Gratis (Keine Kosten für den Sitzplatz)🎟n
 bsp\;Anmeldung&nbsp\;&amp\;&nbsp\;👥nbsp\;Kontaktfur: @Leowulf
DTSTART:20251012T120000Z
DTEND:20251012T215900Z
GEO:+52.536564;+13.222792
LOCATION:Billardsalon Spandau 'Pool Position'\, Am Juliusturm 31\, 13599 Be
 rlin
ORGANIZER:
SEQUENCE:1
SUMMARY:Magic Commander Stammtisch
TRANSP:OPAQUE
URL:https://www.event-furs.de/component/icagenda/magic-commander-stammtisch
 -2
END:VEVENT
END:VCALENDAR
