BEGIN:VCALENDAR
VERSION:2.0
PRODID:-//Event-Furs.de//NONSGML kigkonsult.se iCalcreator 2.30.10//
CALSCALE:GREGORIAN
METHOD:PUBLISH
UID:ab7d9c3d-ad13-4135-bcf3-9c10a5122b2c
X-WR-CALNAME:iCagenda
X-WR-CALDESC:Event Management Extension for Joomla!
X-WR-RELCALID:3E26604A-50F4-4449-8B3E-E4F4932D05B5
X-WR-TIMEZONE:Europe/Berlin
BEGIN:VTIMEZONE
TZID:Europe/Berlin
BEGIN:STANDARD
TZNAME:CET
DTSTART:20231029T030000
TZOFFSETFROM:+0200
TZOFFSETTO:+0100
RDATE:20241027T030000
RDATE:20251026T030000
END:STANDARD
BEGIN:DAYLIGHT
TZNAME:CEST
DTSTART:20240331T020000
TZOFFSETFROM:+0100
TZOFFSETTO:+0200
RDATE:20250330T020000
END:DAYLIGHT
END:VTIMEZONE
BEGIN:VEVENT
UID:82332b72-6c9a-47d1-9d98-a9d1077bd743
DTSTAMP:20260420T032337Z
CATEGORIES:Stammtisch
CLASS:PUBLIC
DESCRIPTION;ALTREP="CID:<FFFF__=0ABBE548DFE235B58f9e8a93d@coffeebean.com>":
 Magic Commander Stammtisch📅nbsp\;SO 15.09.2024 ab 14:00 📅Billardsalon Span
 dau 'Pool Position' Am Juliusturm 31 13599 Berlin Anfahrt: 🚇nbsp\;U-Bahn-S
 tation Zitadelle Spandau oder 🚌nbsp\;Bus-Haltestelle Motorradwerk📍nWir wol
 len ein paar ruhige Runden Magic - Commander spielen. Anfänger sind hierbe
 i herzlich willkommen. Das vorgeschlagene Powerlevel befindet sich ebenfal
 ls im anfängerfreundlichen Bereich und entspricht ca. den Niveau der vorge
 fertigten Commanderdecks (Precons) von Wizards of the Coast. Spielkarten s
 ind in den Sprachen Deutsch und Englisch erlaubt.\n🍀🍀🍀🍀n💫nbsp\;Platz für 8
  Spieler 🐿 Spieler sind immer vor Ort\, also stoßt gerne dazu.\n🍔&nbsp\;Di
 rekt im Billardsalon könnt ihr euch mit Snacks und Getränken versorgen. Wi
 chtig: Kartenzahlungen sind erst ab 15€ möglich!\n💶nbsp\;Preis:&nbsp\;Grat
 is (Keine Kosten für den Sitzplatz)🎟nbsp\;Anmeldung&nbsp\;&amp\;&nbsp\;👥nb
 sp\;Kontaktfur: @Leowulf
DTSTART:20240915T120000Z
DTEND:20240915T215900Z
GEO:+52.536564;+13.222792
LOCATION:Billardsalon Spandau 'Pool Position'
ORGANIZER:
SEQUENCE:1
SUMMARY:Magic Commander Stammtisch
TRANSP:OPAQUE
URL:https://www.event-furs.de/component/icagenda/magic-commander-stammtisch
END:VEVENT
END:VCALENDAR
