BEGIN:VCALENDAR
VERSION:2.0
PRODID:-//Event-Furs.de//NONSGML kigkonsult.se iCalcreator 2.30.10//
CALSCALE:GREGORIAN
METHOD:PUBLISH
UID:f079e17c-641c-4a4c-a85b-76ed2289f9a8
X-WR-CALNAME:iCagenda
X-WR-CALDESC:Event Management Extension for Joomla!
X-WR-RELCALID:3E26604A-50F4-4449-8B3E-E4F4932D05B5
X-WR-TIMEZONE:Europe/Berlin
BEGIN:VTIMEZONE
TZID:Europe/Berlin
BEGIN:STANDARD
TZNAME:CET
DTSTART:20231029T030000
TZOFFSETFROM:+0200
TZOFFSETTO:+0100
RDATE:20241027T030000
END:STANDARD
BEGIN:DAYLIGHT
TZNAME:CEST
DTSTART:20240331T020000
TZOFFSETFROM:+0100
TZOFFSETTO:+0200
RDATE:20250330T020000
END:DAYLIGHT
END:VTIMEZONE
BEGIN:VEVENT
UID:ad0a4148-80af-4201-816c-5edbc8065146
DTSTAMP:20260419T202413Z
CATEGORIES:Gärten der Welt
CLASS:PUBLIC
DESCRIPTION;ALTREP="CID:<FFFF__=0ABBE548DFE235B58f9e8a93d@coffeebean.com>":
 🍄🍀🌷🌾☘️🍄️ Fursuitwalk zu Ostern ❗️Ostereiersuche im Treptower Park&nbsp\; 🌼
 onntag 31.03. 🌼reffen: 13:30 Uhr Start: 14:00 Uhr 🍄dauer 1h - 1\,5h Max.\n
 🌷Treffpunkt 🌷uf dem Parkplatz an der Insel der JugendBulgarische Str. 22-6
 0 12435 Berlin\n🅿 Weitere ParkplätzeRathaus Treptow Neue Krugallee 2-61243
 5 Berlin\n🚌Anfahrt mit Bus über Bulgarische Str. in der Nähe mit den Linie
 n: 165\, 166\, 256\n🌷Programm 🌷 Der kleine Oster-Suitwalk 🌸Vom Weltspielpl
 atz geht es zum Sommerblumengarten und wieder zurück zur Insel der Jugend.
 🌼Parallel dazu suchen wir den Osterhasen und seine Bunten 🥚Riesen-Eier 🐇nE
 ine Kleine&nbsp\; Umkleide\, Gepäck Transport Bollerwagen \, wie auch 15L 
 Wasser stehen zu Verfügung.\n🌼Nach dem Walk gibt es ein kleines Picknick m
 it Kekse und Getränken&nbsp\;\,wer mag kann auch was kleines beisteuern 🥕n
 🌼An Fursuiter ohne Auto:\nEin Gepäck Bollerwagen steht zu Verfügung&nbsp\;
  an dem&nbsp\; Walk.\nIch bitte ich euch aber&nbsp\; leite Verstaungsmögli
 chkeiten wie Große Taschen die man beim Walk klein machen kann mitzubringe
 n🌸enn es mehr Sachen werden \,bitte ich alle Autofahrer um Mithilfe beim v
 erstauen der Sachen.\n🌸Freue mich auf euch 🌼n🌼Puschel 🌸
DTSTART:20240331T110000Z
DTEND:20240331T140000Z
GEO:+52.488445;+13.470314
LOCATION:
ORGANIZER:
SEQUENCE:1
SUMMARY:Osterwalk by Puschel
TRANSP:OPAQUE
URL:https://www.event-furs.de/component/icagenda/osterwalk-by-puschel
END:VEVENT
END:VCALENDAR
