BEGIN:VCALENDAR
VERSION:2.0
PRODID:-//Event-Furs.de//NONSGML kigkonsult.se iCalcreator 2.30.10//
CALSCALE:GREGORIAN
METHOD:PUBLISH
UID:0ffb732d-4f17-426f-8cdf-c127f273096a
X-WR-CALNAME:iCagenda
X-WR-CALDESC:Event Management Extension for Joomla!
X-WR-RELCALID:3E26604A-50F4-4449-8B3E-E4F4932D05B5
X-WR-TIMEZONE:Europe/Berlin
BEGIN:VTIMEZONE
TZID:Europe/Berlin
BEGIN:STANDARD
TZNAME:CET
DTSTART:20241027T030000
TZOFFSETFROM:+0200
TZOFFSETTO:+0100
RDATE:20251026T030000
RDATE:20261025T030000
END:STANDARD
BEGIN:DAYLIGHT
TZNAME:CEST
DTSTART:20250330T020000
TZOFFSETFROM:+0100
TZOFFSETTO:+0200
RDATE:20260329T020000
END:DAYLIGHT
END:VTIMEZONE
BEGIN:VEVENT
UID:35882ea4-8ec8-48d8-a361-c0531cb0f57e
DTSTAMP:20260420T020150Z
CATEGORIES:Suitwalk
CLASS:PUBLIC
DESCRIPTION;ALTREP="CID:<FFFF__=0ABBE548DFE235B58f9e8a93d@coffeebean.com>":
 🌟 Einladung zum ANTI PCD WALK📅SA 13.09.2025 von 13:00 bis 17:00 Uhr 📅 Gärt
 en der Welt Blumberger Damm 4412685 BerlinMarzahn-HellersdorfAnfahrt: 🚌X69
  - Blumberger Damm/Gärten der Welt (Berlin) 📍n⭐️ Gemeinsam gegen die Post-
 Con-Blues! Ob du frisch von der EF kommst oder dieses Jahr gar nicht dabei
  sein konntest – dieser Walk ist für alle\, die noch einmal Convention-Fee
 ling\, Gemeinschaft und Fell in allen Farben erleben wollen. Lasst uns Fre
 unde treffen und den Tag in fellig guter Gesellschaft verbringen.\n📍Treffp
 unkt: Nebeneingang links vom Haupteingang (über Parkplatz West) Wer pünktl
 ich am Tor ist\, bekommt kostenlosen Eintritt! Wer später dazustößt\, zahl
 t den regulären Parkeintritt von 9 € pro Person (dieser Betrag geht direkt
  an den Park\, nicht an uns).\n⚜️ Dieses Mal planen wir durch die kleinere
 n Themengärten neben dem Haupteingang zu gehen\, perfekt für tolle Fotos u
 nd auch mal was Neues!\n👗Umkleiden: Wir haben 2–3 Umkleiden in der Arena\,
  ggf. mit Überlauf-Option. Toiletten vor Ort können ebenfalls genutzt werd
 en.\n📋Bitte nehmt an der Umfrage zur Teilnahme teil\, das hilft uns bei de
 r Planung und Vorbereitung!\n📸Spotter\, Fotografen &amp\; Helfer gesucht!S
 potter\, Fotografen und Helfer sind herzlich eingeladen\, die schönsten Mo
 mente des Walks einzufangen und das Event zu unterstützen. 👉Meldet euch be
 i @Flammenschwinge\, um Teil des Teams zu werden!\n💶Eintritt: 9\,00 € (reg
 ulärer Parkeintritt)ℹ️ Mehr Infos: https://event-furs.de &amp\; https://t.
 me/event_furs (https://t.me/event_furs)👥Kontaktfurs: @Flammenschwinge\, @E
 ricmon
DTSTART:20250913T110000Z
DTEND:20250913T150000Z
GEO:+52.539402;+13.569945
LOCATION:Gärten der Welt - Blumberger Damm 44 - 12685 Berlin
ORGANIZER:
SEQUENCE:1
SUMMARY:ANTI PCD WALK 2025 - Gärten der Welt
TRANSP:OPAQUE
URL:https://www.event-furs.de/component/icagenda/pcdwalk/2025-09-13-13-00
END:VEVENT
END:VCALENDAR
