BEGIN:VCALENDAR
VERSION:2.0
PRODID:-//Event-Furs.de//NONSGML kigkonsult.se iCalcreator 2.30.10//
CALSCALE:GREGORIAN
METHOD:PUBLISH
UID:3a1ec7b0-0670-41e2-8b96-e2f487e905bc
X-WR-CALNAME:iCagenda
X-WR-CALDESC:Event Management Extension for Joomla!
X-WR-RELCALID:3E26604A-50F4-4449-8B3E-E4F4932D05B5
X-WR-TIMEZONE:Europe/Berlin
BEGIN:VTIMEZONE
TZID:Europe/Berlin
BEGIN:STANDARD
TZNAME:CET
DTSTART:20241027T030000
TZOFFSETFROM:+0200
TZOFFSETTO:+0100
RDATE:20251026T030000
RDATE:20261025T030000
END:STANDARD
BEGIN:DAYLIGHT
TZNAME:CEST
DTSTART:20250330T020000
TZOFFSETFROM:+0100
TZOFFSETTO:+0200
RDATE:20260329T020000
RDATE:20270328T020000
END:DAYLIGHT
END:VTIMEZONE
BEGIN:VEVENT
UID:0a99c37d-59b7-48fb-8362-de3ce95e53bb
DTSTAMP:20260420T015902Z
CATEGORIES:Event
CLASS:PUBLIC
DESCRIPTION;ALTREP="CID:<FFFF__=0ABBE548DFE235B58f9e8a93d@coffeebean.com>":
 RESPAWN Community Event📅SA 11.10.2025 von 17:00 bis 23:30 Uhr 📅 METRONOM B
 erlin Sterkrader Str. 4413507 BerlinReinickendorf/TegelAnfahrt: 🚇U6 - U Ho
 lzhauser Str.| 🚌133/X33 - Sterkrader Str. (Berlin) 📍🔄Einmal im Monat\, in 
 der Regel an einem Samstag\nRESPAWN Berlin ist ein Community-Event\, das s
 ich rund um Games\, Anime\, Cosplay und vieles mehr dreht. Getragen vom MM
 C Berlin e.V.\, findet es einmal im Monat statt und bietet Besuchern jegli
 cher Altersgruppe und unterschiedlichen Interessenbereichen eine Möglichke
 it\, sich auszutauschen und Freunde zu finden. Von Furries über Gamer bis 
 hin zu Anime/Manga Fans - bei uns ist jeder willkommen! Unser 30-köpfiges 
 Team steht für Fragen und Anregungen jederzeit bereit und organisiert einz
 elne Bereiche auf dem Event selbst.\n💶nbsp\;Tageskasse: 4\,00 €ℹ️ Mehr Inf
 os:&nbsp\;https://respawn.berlin/events/👥Kontakt: @ChristopherBlockDE🌐Webs
 eite: https://respawn.berlin/
DTSTART:20251011T150000Z
DTEND:20251011T213000Z
GEO:+52.57774;+13.285262
LOCATION:METRONOM Berlin
ORGANIZER:
SEQUENCE:1
SUMMARY:RESPAWN Community Event
TRANSP:OPAQUE
URL:https://www.event-furs.de/component/icagenda/respawn-community-event-2
END:VEVENT
END:VCALENDAR
