BEGIN:VCALENDAR
VERSION:2.0
PRODID:-//Event-Furs.de//NONSGML kigkonsult.se iCalcreator 2.30.10//
CALSCALE:GREGORIAN
METHOD:PUBLISH
UID:bb87ab55-379f-47cc-8914-958dd1329b9d
X-WR-CALNAME:iCagenda
X-WR-CALDESC:Event Management Extension for Joomla!
X-WR-RELCALID:3E26604A-50F4-4449-8B3E-E4F4932D05B5
X-WR-TIMEZONE:Europe/Berlin
BEGIN:VTIMEZONE
TZID:Europe/Berlin
BEGIN:STANDARD
TZNAME:CET
DTSTART:20251026T030000
TZOFFSETFROM:+0200
TZOFFSETTO:+0100
RDATE:20261025T030000
END:STANDARD
BEGIN:DAYLIGHT
TZNAME:CEST
DTSTART:20250330T020000
TZOFFSETFROM:+0100
TZOFFSETTO:+0200
RDATE:20260329T020000
RDATE:20270328T020000
END:DAYLIGHT
END:VTIMEZONE
BEGIN:VEVENT
UID:0c185848-62bc-442b-8b81-d02e84692a90
DTSTAMP:20260419T202413Z
CATEGORIES:Event
CLASS:PUBLIC
DESCRIPTION;ALTREP="CID:<FFFF__=0ABBE548DFE235B58f9e8a93d@coffeebean.com>":
 \nRESPAWN Community Event📅SA 23.01.2026 von 17:00 bis 23:30 Uhr 📅 METRONOM
  Berlin Sterkrader Str. 4413507 BerlinReinickendorf/TegelAnfahrt: 🚇U6 - U 
 Holzhauser Str.| 🚌133/X33 - Sterkrader Str. (Berlin) 📍🔄Einmal im Monat\, i
 n der Regel an einem Samstag\nRESPAWN Berlin ist ein Community-Event\, das
  sich rund um Games\, Anime\, Cosplay und vieles mehr dreht. Getragen vom 
 MMC Berlin e.V.\, findet es einmal im Monat statt und bietet Besuchern jeg
 licher Altersgruppe und unterschiedlichen Interessenbereichen eine Möglich
 keit\, sich auszutauschen und Freunde zu finden. Von Furries über Gamer bi
 s hin zu Anime/Manga Fans - bei uns ist jeder willkommen! Unser 30-köpfige
 s Team steht für Fragen und Anregungen jederzeit bereit und organisiert ei
 nzelne Bereiche auf dem Event selbst.\n💶nbsp\;Tageskasse: 4\,00 €ℹ️ Mehr I
 nfos:&nbsp\;https://respawn.berlin/events/👥Kontakt: @ChristopherBlockDE🌐We
 bseite: https://respawn.berlin/\n
DTSTART:20260103T160000Z
DTEND:20260103T223000Z
GEO:+52.57774;+13.285262
LOCATION:METRONOM Berlin
ORGANIZER:
SEQUENCE:1
SUMMARY:RESPAWN Community Event
TRANSP:OPAQUE
URL:https://www.event-furs.de/component/icagenda/respawn-community-event-3
END:VEVENT
END:VCALENDAR
