BEGIN:VCALENDAR
VERSION:2.0
PRODID:-//Event-Furs.de//NONSGML kigkonsult.se iCalcreator 2.30.10//
CALSCALE:GREGORIAN
METHOD:PUBLISH
UID:274baa1e-9b4b-49d1-952a-b9619531b80b
X-WR-CALNAME:iCagenda
X-WR-CALDESC:Event Management Extension for Joomla!
X-WR-RELCALID:3E26604A-50F4-4449-8B3E-E4F4932D05B5
X-WR-TIMEZONE:Europe/Berlin
BEGIN:VTIMEZONE
TZID:Europe/Berlin
BEGIN:STANDARD
TZNAME:CET
DTSTART:20231029T030000
TZOFFSETFROM:+0200
TZOFFSETTO:+0100
RDATE:20241027T030000
RDATE:20251026T030000
END:STANDARD
BEGIN:DAYLIGHT
TZNAME:CEST
DTSTART:20240331T020000
TZOFFSETFROM:+0100
TZOFFSETTO:+0200
RDATE:20250330T020000
END:DAYLIGHT
END:VTIMEZONE
BEGIN:VEVENT
UID:02759f58-10a2-4f5b-abcd-9399a3181030
DTSTAMP:20260420T032731Z
CATEGORIES:Event
CLASS:PUBLIC
DESCRIPTION;ALTREP="CID:<FFFF__=0ABBE548DFE235B58f9e8a93d@coffeebean.com>":
 RESPAWN Community Event📅SA 14.09.2024 von 18:00 bis 23:30 Uhr 📅 METRONOM B
 erlin Sterkrader Str. 4413507 BerlinReinickendorf/TegelAnfahrt: 🚇U6 - U Ho
 lzhauser Str.| 🚌133/X33 - Sterkrader Str. (Berlin) 📍🔄Einmal im Monat\, in 
 der Regel an einem Samstag\nRESPAWN Berlin ist ein Community-Event\, das s
 ich rund um Games\, Anime\, Cosplay und vieles mehr dreht. Getragen vom MM
 C Berlin e.V.\, findet es einmal im Monat statt und bietet Besuchern jegli
 cher Altersgruppe und unterschiedlichen Interessenbereichen eine Möglichke
 it\, sich auszutauschen und Freunde zu finden. Von Furries über Gamer bis 
 hin zu Anime/Manga Fans - bei uns ist jeder willkommen! Unser 30-köpfiges 
 Team steht für Fragen und Anregungen jederzeit bereit und organisiert einz
 elne Bereiche auf dem Event selbst.\n💶Tageskasse: 4\,00 €ℹ️ Mehr Infos: RE
 SPAWN.Berlin (https://respawn.berlin/events/)👥Kontakt: Siehe Webseite (htt
 ps://respawn.berlin/kontakt/)
DTSTART:20240914T160000Z
DTEND:20240914T203000Z
GEO:+52.57774;+13.285262
LOCATION:METRONOM Berlin
ORGANIZER:
SEQUENCE:1
SUMMARY:RESPAWN Community Event
TRANSP:OPAQUE
URL:https://www.event-furs.de/component/icagenda/respawn-community-event
END:VEVENT
END:VCALENDAR
