BEGIN:VCALENDAR
VERSION:2.0
PRODID:-//Event-Furs.de//NONSGML kigkonsult.se iCalcreator 2.30.10//
CALSCALE:GREGORIAN
METHOD:PUBLISH
UID:bbcfb857-77d5-477d-9ad9-eac4b4993573
X-WR-CALNAME:iCagenda
X-WR-CALDESC:Event Management Extension for Joomla!
X-WR-RELCALID:3E26604A-50F4-4449-8B3E-E4F4932D05B5
X-WR-TIMEZONE:Europe/Berlin
BEGIN:VTIMEZONE
TZID:Europe/Berlin
BEGIN:STANDARD
TZNAME:CET
DTSTART:20251026T030000
TZOFFSETFROM:+0200
TZOFFSETTO:+0100
RDATE:20261025T030000
END:STANDARD
BEGIN:DAYLIGHT
TZNAME:CEST
DTSTART:20250330T020000
TZOFFSETFROM:+0100
TZOFFSETTO:+0200
RDATE:20260329T020000
RDATE:20270328T020000
END:DAYLIGHT
END:VTIMEZONE
BEGIN:VEVENT
UID:88be3347-f6a4-4f4d-8311-e8c3acbed461
DTSTAMP:20260419T222313Z
CATEGORIES:Event
CLASS:PUBLIC
DESCRIPTION;ALTREP="CID:<FFFF__=0ABBE548DFE235B58f9e8a93d@coffeebean.com>":
 \nRESPAWN -&nbsp\;Das Winter-Special📅SA 20.12.2025 von 17:00 bis 23:30 Uhr
  📅 METRONOM Berlin Sterkrader Str. 4413507 BerlinReinickendorf/TegelAnfahr
 t: 🚇U6 - U Holzhauser Str.| 🚌133/X33 - Sterkrader Str. (Berlin) 📍🔄Einmal i
 m Monat\, in der Regel an einem Samstag\nRESPAWN Berlin ist ein Community-
 Event\, das sich rund um Games\, Anime\, Cosplay und vieles mehr dreht. Ge
 tragen vom MMC Berlin e.V.\, findet es einmal im Monat statt und bietet Be
 suchern jeglicher Altersgruppe und unterschiedlichen Interessenbereichen e
 ine Möglichkeit\, sich auszutauschen und Freunde zu finden. Von Furries üb
 er Gamer bis hin zu Anime/Manga Fans - bei uns ist jeder willkommen! Unser
  30-köpfiges Team steht für Fragen und Anregungen jederzeit bereit und org
 anisiert einzelne Bereiche auf dem Event selbst.\n💶nbsp\;Tageskasse: 4\,00
  €ℹ️ Mehr Infos:&nbsp\;https://respawn.berlin/events/👥Kontakt: @Christophe
 rBlockDE🌐Webseite: https://respawn.berlin/\n
DTSTART:20251220T160000Z
DTEND:20251220T223000Z
GEO:+52.57774;+13.285262
LOCATION:METRONOM Berlin
ORGANIZER:
SEQUENCE:1
SUMMARY:RESPAWN - Das Winter-Special
TRANSP:OPAQUE
URL:https://www.event-furs.de/component/icagenda/respawn-das-winter-special
END:VEVENT
END:VCALENDAR
