BEGIN:VCALENDAR
VERSION:2.0
PRODID:-//Event-Furs.de//NONSGML kigkonsult.se iCalcreator 2.30.10//
CALSCALE:GREGORIAN
METHOD:PUBLISH
UID:fa97072c-dfec-4443-b157-6cee9ae433a8
X-WR-CALNAME:iCagenda
X-WR-CALDESC:Event Management Extension for Joomla!
X-WR-RELCALID:3E26604A-50F4-4449-8B3E-E4F4932D05B5
X-WR-TIMEZONE:Europe/Berlin
BEGIN:VTIMEZONE
TZID:Europe/Berlin
BEGIN:STANDARD
TZNAME:CET
DTSTART:20241027T030000
TZOFFSETFROM:+0200
TZOFFSETTO:+0100
RDATE:20251026T030000
RDATE:20261025T030000
END:STANDARD
BEGIN:DAYLIGHT
TZNAME:CEST
DTSTART:20250330T020000
TZOFFSETFROM:+0100
TZOFFSETTO:+0200
RDATE:20260329T020000
RDATE:20270328T020000
END:DAYLIGHT
END:VTIMEZONE
BEGIN:VEVENT
UID:44778562-f82a-4560-9199-ecf8ac0ce4f4
DTSTAMP:20260420T020034Z
CATEGORIES:Furdance
CLASS:PUBLIC
DESCRIPTION;ALTREP="CID:<FFFF__=0ABBE548DFE235B58f9e8a93d@coffeebean.com>":
 \n\n🐯 Der SaarFurDance ist zurück! 🦊\n&nbsp\;\nWann: Am 11.10.2025 in der 
 Tanzschule Euschen-Gebhardt&nbsp\;\nWo: Richard-Wagner-Straße 9\, 66111 Sa
 arbrücken&nbsp\;\nWann darf ich rein: Einlass ab 18 Uhr&nbsp\;\nAltersgren
 ze: Mindestalter 18 Jahre&nbsp\;\nPreis: Tickets schon ab 25 €&nbsp\;\n&nb
 sp\;\nNach Jahren der Stille\, des Fellkämmens und der Pfotenschonung ist 
 es endlich wieder so weit: Der 3. SaarFurDance steht vor der Tür 🕺\n📆Datum
 : 11.10.2025📍Ort: Saarbrücken🐱Teilnehmerlimit: 150📝Registration: Ab 27.07.
 2025 um 21:00\n🌐Website: https://saar-furdance.de 📢Social Media: https://w
 onderl.ink/@safd\n💬Telegram: https://t.me/+QIqEqOoyKLShvZ9D 💬Matrix: https
 ://matrix.to/#/%23saarfurdance:foxyden.eu 💬Discord: https://discord.gg/mWR
 33AVHZ3\nSchmeißt die Pfoten in die Luft zu wilder Musik und flauschigen T
 änzen.\nKleines Päuschen vom Tanzen?\nGönnt euch ein paar Drinks an der Ba
 r oder legt euren Suit in der geräumigen Fursuitlounge ab.\nFür euer leibl
 iches Wohl hat die Saarbrücker Innenstadt ein reichhaltiges kulinarisches 
 Angebot bis in die späten Abendstunden.\nAlso worauf wartet ihr? Sichert e
 uch euer Ticket für die flauschigste Party im schönsten Bundesland.&nbsp\;
 \nRegistrierung:&nbsp\;https://t.me/+QIqEqOoyKLShvZ9D\n\n\n\n\nAnreise per
  Auto:\nA 620 Ausfahrt 17 WHB Saarcenter abfahren und dem Parkleitsystem f
 olgen.\n\n\n\n\nAnreise per S Bahn:\nDie Haltestelle Kaiserstraße wird von
  der S1 angefahren und liegt ca. 290 m (4 min) entfernt.\n\n\n\n\nAnreise 
 per Zug:\nDer Saarbrücker Hbf liegt 500 m (7 min) Entfernt. Und wird von e
 iner Vielzahl von Nah und Fernverkehrslinien angefahren.\n\n
DTSTART:20251011T160000Z
DTEND:20251012T010000Z
GEO:+49.238976;+6.995646
LOCATION:Tanzschule Euschen-Gebhardt\, Richard-Wagner-Straße 9\, 66111 Saar
 brücken
ORGANIZER:
SEQUENCE:1
SUMMARY:SaarFurDance III reloaded
TRANSP:OPAQUE
URL:https://www.event-furs.de/component/icagenda/saarfurdance-iii-reloaded
END:VEVENT
END:VCALENDAR
