BEGIN:VCALENDAR
VERSION:2.0
PRODID:-//Event-Furs.de//NONSGML kigkonsult.se iCalcreator 2.30.10//
CALSCALE:GREGORIAN
METHOD:PUBLISH
UID:527e5316-4820-4217-a197-8108e071f586
X-WR-CALNAME:iCagenda
X-WR-CALDESC:Event Management Extension for Joomla!
X-WR-RELCALID:3E26604A-50F4-4449-8B3E-E4F4932D05B5
X-WR-TIMEZONE:Europe/Berlin
BEGIN:VTIMEZONE
TZID:Europe/Berlin
BEGIN:STANDARD
TZNAME:CET
DTSTART:20241027T030000
TZOFFSETFROM:+0200
TZOFFSETTO:+0100
RDATE:20251026T030000
RDATE:20261025T030000
END:STANDARD
BEGIN:DAYLIGHT
TZNAME:CEST
DTSTART:20250330T020000
TZOFFSETFROM:+0100
TZOFFSETTO:+0200
RDATE:20260329T020000
RDATE:20270328T020000
END:DAYLIGHT
END:VTIMEZONE
BEGIN:VEVENT
UID:a1655c89-64e6-4c87-8232-594514cd995c
DTSTAMP:20260420T020943Z
CATEGORIES:Suitwalk
CLASS:PUBLIC
DESCRIPTION;ALTREP="CID:<FFFF__=0ABBE548DFE235B58f9e8a93d@coffeebean.com>":
 🌟 Suitwalk im Schlosspark Sanssouci [+ Essen gehen]📅SA 27.09.2025 ab 13:30
  Uhr 📅 Park Sanssouci\, Eingang Posttor (https://maps.app.goo.gl/a2xxMLSpa
 5qTwuvx7?g_st=atm)Geschwister-Scholl-Straße 38\, 14471 PotsdamAnfahrt:&nbs
 p\; BHF Park Sanssouci RE1\, RB21\,22 und 23(RE1 kommt 13:13 Uhr aus Berli
 n an\, laut plan)Wir planen eine kleine Fahrgemeinschaft zu bilden\, treff
 en dazu am Alexanderplatz an der Weltzeituhr um 12:20 Uhr. 📍n⚜️ Wir planen
  zum neuen Palais zu laufen und von dort aus\, je nach Wetter und Energie 
 der Teilnehmer\, zum Schloss Sanssouci\, oder zum Schloss Charlottenhof.\n
 👗Umkleiden können wir leider keine anbieten. Wir wollen uns bei den Parkpl
 ätzen in der Geschwister-Scholl Straße umziehen. Aktuell kommt eine Person
  mit Auto\, ergo ein wenig Lagerplatz ist vorhanden. Dazu am besten in der
  Gruppe mit abstimmen.\n🥩Wer danach noch Hunger hat\, kann gerne mitkommen
  ins Gartenlokal Am Kaiserbahnhof (https://maps.app.goo.gl/ryFBMvhEsLDpnmk
 d8?g_st=atm)\, ich bitte um Anmeldung.\nMit flauschigem GrußLordi! 🐼n🎟Anme
 ldung: https://events.bbfurry.de/events/Schlosspark-Sanssouci💶Eintritt: ko
 stenlosℹ️ Mehr Infos: https://t.me/+ZEWwpPb6Es03NGEy👥Kontaktfur: @lordi091
 1
DTSTART:20250927T113000Z
DTEND:20250927T140000Z
GEO:+52.393993;+13.017305
LOCATION:Schlosspark Sanssouci\, Eingang Posttor
ORGANIZER:
SEQUENCE:1
SUMMARY:Suitwalk im Schlosspark Sanssouci
TRANSP:OPAQUE
URL:https://www.event-furs.de/component/icagenda/suitwalk-im-schlosspark-sa
 nssouci
END:VEVENT
END:VCALENDAR
