BEGIN:VCALENDAR
VERSION:2.0
PRODID:-//Event-Furs.de//NONSGML kigkonsult.se iCalcreator 2.30.10//
CALSCALE:GREGORIAN
METHOD:PUBLISH
UID:5632bcd0-4c70-406d-a773-4351b53be5a3
X-WR-CALNAME:iCagenda
X-WR-CALDESC:Event Management Extension for Joomla!
X-WR-RELCALID:3E26604A-50F4-4449-8B3E-E4F4932D05B5
X-WR-TIMEZONE:Europe/Berlin
BEGIN:VTIMEZONE
TZID:Europe/Berlin
BEGIN:STANDARD
TZNAME:CET
DTSTART:20241027T030000
TZOFFSETFROM:+0200
TZOFFSETTO:+0100
RDATE:20251026T030000
RDATE:20261025T030000
END:STANDARD
BEGIN:DAYLIGHT
TZNAME:CEST
DTSTART:20250330T020000
TZOFFSETFROM:+0100
TZOFFSETTO:+0200
RDATE:20260329T020000
END:DAYLIGHT
END:VTIMEZONE
BEGIN:VEVENT
UID:60e08e0b-b412-428e-83cc-49cb92d5f616
DTSTAMP:20260420T020150Z
CATEGORIES:Event
CLASS:PUBLIC
DESCRIPTION;ALTREP="CID:<FFFF__=0ABBE548DFE235B58f9e8a93d@coffeebean.com>":
 09.09. - 14.09.2025 im Tropical Islands&nbsp\;\nWhat’s TFI about?\nTropica
 l Furry Islands is your furry holiday at the Tropical Islands resort in Be
 rlin-Brandenburg.\nWhat can I do?\nBesides having fun with others and expl
 ore the environment there are plenty of other activities. We will have sma
 ller partying events\, tours around or inside the dome and as always a gro
 up photo. We also provide free ice cream and slushice made from our own fr
 esh recipes!\nThere will be various smaller events organized by attendees 
 like themed roomparties\, BBQ gatherings\, gaming sessions and alike. Also
  just to point this out: The entry around the clock to Tropical Islands (a
 s well as the spa area!) is included in your ticket for TFI! Be aware of v
 arying opening times for certain attractions.&nbsp\;\n&nbsp\;
DTSTART:20250908T220000Z
DTEND:20250913T220000Z
GEO:+52.039013;+13.748425
LOCATION:Tropical Islands\, Tropical-Islands-Allee 1\, 15910 Krausnick
ORGANIZER;CN=:info@tropical-furry-islands.de
SEQUENCE:1
SUMMARY:Tropical Furry Islands 2025
TRANSP:OPAQUE
URL:https://www.event-furs.de/component/icagenda/tropical-furry-islands-202
 5
END:VEVENT
END:VCALENDAR
