BEGIN:VCALENDAR
VERSION:2.0
PRODID:-//Event-Furs.de//NONSGML kigkonsult.se iCalcreator 2.30.10//
CALSCALE:GREGORIAN
METHOD:PUBLISH
UID:21a409d1-4f7c-4e32-ad29-b61f7e541011
X-WR-CALNAME:iCagenda
X-WR-CALDESC:Event Management Extension for Joomla!
X-WR-RELCALID:3E26604A-50F4-4449-8B3E-E4F4932D05B5
X-WR-TIMEZONE:Europe/Berlin
BEGIN:VTIMEZONE
TZID:Europe/Berlin
BEGIN:STANDARD
TZNAME:CET
DTSTART:20231029T030000
TZOFFSETFROM:+0200
TZOFFSETTO:+0100
RDATE:20241027T030000
RDATE:20251026T030000
END:STANDARD
BEGIN:DAYLIGHT
TZNAME:CEST
DTSTART:20240331T020000
TZOFFSETFROM:+0100
TZOFFSETTO:+0200
RDATE:20250330T020000
END:DAYLIGHT
END:VTIMEZONE
BEGIN:VEVENT
UID:bfdc7ce6-83f6-4075-b880-cfbab95d13cf
DTSTAMP:20260420T034827Z
CATEGORIES:Convention
CLASS:PUBLIC
DESCRIPTION;ALTREP="CID:<FFFF__=0ABBE548DFE235B58f9e8a93d@coffeebean.com>":
 Tropical Furry Islands vom 04.09.2024 bis 08.09.2024\nTropical-Islands-All
 ee 1\, 15910 Krausnick-Groß Wasserburg
DTSTART:20240904T080000Z
DTEND:20240907T220000Z
GEO:+52.03196;+13.73158
LOCATION:Tropical Islands
ORGANIZER:
SEQUENCE:1
SUMMARY:Tropical Furry Islands
TRANSP:OPAQUE
URL:https://www.event-furs.de/component/icagenda/tropical-furry-islands
END:VEVENT
END:VCALENDAR
