BEGIN:VCALENDAR
VERSION:2.0
PRODID:-//Event-Furs.de//NONSGML kigkonsult.se iCalcreator 2.30.10//
CALSCALE:GREGORIAN
METHOD:PUBLISH
UID:7147cd4e-eef2-4eff-9fa8-483ed2f14f74
X-WR-CALNAME:iCagenda
X-WR-CALDESC:Event Management Extension for Joomla!
X-WR-RELCALID:3E26604A-50F4-4449-8B3E-E4F4932D05B5
X-WR-TIMEZONE:Europe/Berlin
BEGIN:VTIMEZONE
TZID:Europe/Berlin
BEGIN:STANDARD
TZNAME:CET
DTSTART:20231029T030000
TZOFFSETFROM:+0200
TZOFFSETTO:+0100
RDATE:20241027T030000
RDATE:20251026T030000
END:STANDARD
BEGIN:DAYLIGHT
TZNAME:CEST
DTSTART:20240331T020000
TZOFFSETFROM:+0100
TZOFFSETTO:+0200
RDATE:20250330T020000
END:DAYLIGHT
END:VTIMEZONE
BEGIN:VEVENT
UID:fe40ef6a-c767-4ba4-b1fc-2084e1d05415
DTSTAMP:20260420T033703Z
CATEGORIES:Stammtisch
CLASS:PUBLIC
DESCRIPTION;ALTREP="CID:<FFFF__=0ABBE548DFE235B58f9e8a93d@coffeebean.com>":
 Westberliner Stammtisch 74📅SA 14.09.2024 ab 18 Uhr 📅Billardsalon Spandau '
 Pool Position' Am Juliusturm 31 13599 BerlinAnreise: 🚇U-Bahn-Station Zitad
 elle Spandau oder 🚌Bus-Haltestelle Motorradwerk📍🔄Jeden 2. Samstag im Monat
 \nn️ Mehr Infos &amp\; Anmeldung: https://forum.furbase.de/index.php?threa
 d/79676👥Kontaktfur &amp\; alternative Anmeldung: @Leowulf
DTSTART:20240914T160000Z
DTEND:20240914T215900Z
GEO:+52.536564;+13.222792
LOCATION:Billardsalon Spandau 'Pool Position'
ORGANIZER:
SEQUENCE:1
SUMMARY:Westberliner Stammtisch 74
TRANSP:OPAQUE
URL:https://www.event-furs.de/component/icagenda/westberliner-stammtisch-74
END:VEVENT
END:VCALENDAR
