BEGIN:VCALENDAR
VERSION:2.0
PRODID:-//Event-Furs.de//NONSGML kigkonsult.se iCalcreator 2.30.10//
CALSCALE:GREGORIAN
METHOD:PUBLISH
UID:5cb742c0-e015-4aa6-b33b-bb51998a5037
X-WR-CALNAME:iCagenda
X-WR-CALDESC:Event Management Extension for Joomla!
X-WR-RELCALID:3E26604A-50F4-4449-8B3E-E4F4932D05B5
X-WR-TIMEZONE:Europe/Berlin
BEGIN:VTIMEZONE
TZID:Europe/Berlin
BEGIN:STANDARD
TZNAME:CET
DTSTART:20241027T030000
TZOFFSETFROM:+0200
TZOFFSETTO:+0100
RDATE:20251026T030000
RDATE:20261025T030000
END:STANDARD
BEGIN:DAYLIGHT
TZNAME:CEST
DTSTART:20250330T020000
TZOFFSETFROM:+0100
TZOFFSETTO:+0200
RDATE:20260329T020000
RDATE:20270328T020000
END:DAYLIGHT
END:VTIMEZONE
BEGIN:VEVENT
UID:7a9d80eb-dad7-4d4c-86da-c7e52ab87cc4
DTSTAMP:20260420T020841Z
CATEGORIES:Stammtisch
CLASS:PUBLIC
DESCRIPTION;ALTREP="CID:<FFFF__=0ABBE548DFE235B58f9e8a93d@coffeebean.com>":
 📅SA 11.10.2025 ab 18 Uhr 📅📍illardsalon Spandau 'Pool Position' Am Juliustu
 rm 31 13599 Berlin Anreise: 🚇U-Bahn-Station Zitadelle Spandau oder 🚌Bus-Ha
 ltestelle Motorradwerk📍n🔄Jeden 2. Samstag im Monat\n⚠️ Der Westberliner St
 ammtisch feiert im nächsten Jahr sein 10-jähriges Jubiläum! Zu diesem Anla
 ss plane ich ein Buffet. Zur Finanzierung steht ab sofort eine Spendenbox 
 bereit. Wer lieber digital spenden möchte\, kann mich auch gerne über PayP
 al unterstützen.\nhttps://www.paypal.com/pool/9fWa9I9KCK?sr=accr\nℹ️ Mehr 
 Infos &amp\; Anmeldung:&nbsp\;https://forum.furbase.de/forum/thread/79676-
 westberliner-stammtisch-nr-80-13-09-2025/?postID=5702102#post5702102&nbsp\
 ;👥Kontaktfur &amp\; alternative Anmeldung über Telegram: @Leowulf
DTSTART:20251011T160000Z
DTEND:20251011T215900Z
GEO:+52.536564;+13.222792
LOCATION:Billardsalon Spandau 'Pool Position'\, Am Juliusturm 31\, 13599 Be
 rlin
ORGANIZER:
SEQUENCE:1
SUMMARY:Westberliner Stammtisch 87
TRANSP:OPAQUE
URL:https://www.event-furs.de/component/icagenda/westberliner-stammtisch-87
END:VEVENT
END:VCALENDAR
