BEGIN:VCALENDAR
VERSION:2.0
PRODID:-//Event-Furs.de//NONSGML kigkonsult.se iCalcreator 2.30.10//
CALSCALE:GREGORIAN
METHOD:PUBLISH
UID:176af77e-ecf7-4842-a5ee-e5097a827a82
X-WR-CALNAME:iCagenda
X-WR-CALDESC:Event Management Extension for Joomla!
X-WR-RELCALID:3E26604A-50F4-4449-8B3E-E4F4932D05B5
X-WR-TIMEZONE:Europe/Berlin
BEGIN:VTIMEZONE
TZID:Europe/Berlin
BEGIN:STANDARD
TZNAME:CET
DTSTART:20231029T030000
TZOFFSETFROM:+0200
TZOFFSETTO:+0100
RDATE:20241027T030000
RDATE:20251026T030000
END:STANDARD
BEGIN:DAYLIGHT
TZNAME:CEST
DTSTART:20240331T020000
TZOFFSETFROM:+0100
TZOFFSETTO:+0200
RDATE:20250330T020000
END:DAYLIGHT
END:VTIMEZONE
BEGIN:VEVENT
UID:5c007341-5aeb-4237-baed-e432d2db42f8
DTSTAMP:20260420T032050Z
CATEGORIES:Convention
CLASS:PUBLIC
DESCRIPTION:
DTSTART:20240910T220000Z
DTEND:20240914T220000Z
GEO:+53.610336;+8.728984
LOCATION:Freizeit- und Bildungsstätte Drangstedt
ORGANIZER:
SEQUENCE:1
SUMMARY:Wild Times
TRANSP:OPAQUE
URL:https://www.event-furs.de/component/icagenda/wild-times
END:VEVENT
END:VCALENDAR
